BEGIN:VCALENDAR
VERSION:2.0
PRODID:-//Climate Action Hub Telford - ECPv6.15.20//NONSGML v1.0//EN
CALSCALE:GREGORIAN
METHOD:PUBLISH
X-WR-CALNAME:Climate Action Hub Telford
X-ORIGINAL-URL:https://climateactionhub.org.uk
X-WR-CALDESC:Events for Climate Action Hub Telford
REFRESH-INTERVAL;VALUE=DURATION:PT1H
X-Robots-Tag:noindex
X-PUBLISHED-TTL:PT1H
BEGIN:VTIMEZONE
TZID:Europe/London
BEGIN:DAYLIGHT
TZOFFSETFROM:+0000
TZOFFSETTO:+0100
TZNAME:BST
DTSTART:20220327T010000
END:DAYLIGHT
BEGIN:STANDARD
TZOFFSETFROM:+0100
TZOFFSETTO:+0000
TZNAME:GMT
DTSTART:20221030T010000
END:STANDARD
BEGIN:DAYLIGHT
TZOFFSETFROM:+0000
TZOFFSETTO:+0100
TZNAME:BST
DTSTART:20230326T010000
END:DAYLIGHT
BEGIN:STANDARD
TZOFFSETFROM:+0100
TZOFFSETTO:+0000
TZNAME:GMT
DTSTART:20231029T010000
END:STANDARD
BEGIN:DAYLIGHT
TZOFFSETFROM:+0000
TZOFFSETTO:+0100
TZNAME:BST
DTSTART:20240331T010000
END:DAYLIGHT
BEGIN:STANDARD
TZOFFSETFROM:+0100
TZOFFSETTO:+0000
TZNAME:GMT
DTSTART:20241027T010000
END:STANDARD
END:VTIMEZONE
BEGIN:VEVENT
DTSTART;TZID=Europe/London:20230414T100000
DTEND;TZID=Europe/London:20230414T150000
DTSTAMP:20260422T124129
CREATED:20230227T141949Z
LAST-MODIFIED:20230328T092417Z
UID:984-1681466400-1681484400@climateactionhub.org.uk
SUMMARY:Join our Clothes Swap & Giveaway and Teddy Tombola\, Wellington Market
DESCRIPTION:Come along to our Clothes Swap and Giveaway where you will be able to swap or take any men’s\, women’s & children’s clothes and accessories. \n\n\n\nOne way we can reduce our carbon emissions and environmental impact is to reuse and share clothes.   The Fast Fashion industry is responsible for a significant portion of global emissions with cheap garments travelling thousands of miles.   These cheap garments all too often are worn once and discarded\, if they even get to customers in the first place.    \n\n\n\nOur Swap and Giveaway event is designed to keep unwanted clothes out of landfill and get them back into use. \n\n\n\nWe will also be doing a teddy tombola on our stall.  We have over 200 preloved teddies in need of new homes.  50p per go and every ticket wins a teddy!    \n\n\n\nOur stall will be outside the Green Cove in Wellington Market.
URL:https://climateactionhub.org.uk/event/clothes-swap-giveaway-wellington-market
LOCATION:Wellington Market\, Market Street\, Wellington\, TF1 1DT
ATTACH;FMTTYPE=image/png:https://climateactionhub.org.uk/wp-content/uploads/2023/02/Clothes-Swap-Wellington-Market-14.4.23-3.png
END:VEVENT
END:VCALENDAR