BEGIN:VCALENDAR
VERSION:2.0
PRODID:-//Climate Action Hub Telford - ECPv6.15.20//NONSGML v1.0//EN
CALSCALE:GREGORIAN
METHOD:PUBLISH
X-WR-CALNAME:Climate Action Hub Telford
X-ORIGINAL-URL:https://climateactionhub.org.uk
X-WR-CALDESC:Events for Climate Action Hub Telford
REFRESH-INTERVAL;VALUE=DURATION:PT1H
X-Robots-Tag:noindex
X-PUBLISHED-TTL:PT1H
BEGIN:VTIMEZONE
TZID:Europe/London
BEGIN:DAYLIGHT
TZOFFSETFROM:+0000
TZOFFSETTO:+0100
TZNAME:BST
DTSTART:20210328T010000
END:DAYLIGHT
BEGIN:STANDARD
TZOFFSETFROM:+0100
TZOFFSETTO:+0000
TZNAME:GMT
DTSTART:20211031T010000
END:STANDARD
BEGIN:DAYLIGHT
TZOFFSETFROM:+0000
TZOFFSETTO:+0100
TZNAME:BST
DTSTART:20220327T010000
END:DAYLIGHT
BEGIN:STANDARD
TZOFFSETFROM:+0100
TZOFFSETTO:+0000
TZNAME:GMT
DTSTART:20221030T010000
END:STANDARD
BEGIN:DAYLIGHT
TZOFFSETFROM:+0000
TZOFFSETTO:+0100
TZNAME:BST
DTSTART:20230326T010000
END:DAYLIGHT
BEGIN:STANDARD
TZOFFSETFROM:+0100
TZOFFSETTO:+0000
TZNAME:GMT
DTSTART:20231029T010000
END:STANDARD
END:VTIMEZONE
BEGIN:VEVENT
DTSTART;TZID=Europe/London:20221108T000000
DTEND;TZID=Europe/London:20221108T235959
DTSTAMP:20260422T234148
CREATED:20221007T152111Z
LAST-MODIFIED:20221031T104351Z
UID:837-1667865600-1667951999@climateactionhub.org.uk
SUMMARY:COP27: Film "All The Breathes"\, at Wellington Orbit in aid of the Pakistan Floods. 8/11/22 2.30pm & 7pm showings
DESCRIPTION:While world leaders are meeting in Egypt from the 6th to the 18th November for COP27\, Wellington Orbit will be showing several films to help raise awareness of the climate and ecological crisis we face.  At all the film showings donations will be collected in aid of the devastating climate related flooding in Pakistan. \n\n\n\nOn Tuesday 8th November there will be 2 showings at 2.30pm and 7pm of the award winning documentary “All That Breathes”\, described as a “soaring visual masterpiece” is a documentary “set in New Dehli where amongst the city’s toxic air and escalating violence 2 brothers\, Nadeem Shehzad and Mohammad Saud\, devote their lives to protect one casualty of the turbulent times: the bird known as the Black Kite”.   \n\n\n\nClimate Action Hub Telford and XR Telford are sponsoring these showings.  \n\n\n\nFrom 11-2pm we will have a stand in Wellington outside The Orbit shared by other environmental groups so people can access information about how they can get more involved in local climate\, wildlife and environmental activities and actions.
URL:https://climateactionhub.org.uk/event/cop27-film-showing-at-the-orbit-wellington
LOCATION:Wellington Orbit\, 1 Station Road\, Wellington\, Telford\, TF1 1BY
END:VEVENT
END:VCALENDAR