BEGIN:VCALENDAR
VERSION:2.0
PRODID:-//Climate Action Hub Telford - ECPv6.15.20//NONSGML v1.0//EN
CALSCALE:GREGORIAN
METHOD:PUBLISH
X-WR-CALNAME:Climate Action Hub Telford
X-ORIGINAL-URL:https://climateactionhub.org.uk
X-WR-CALDESC:Events for Climate Action Hub Telford
REFRESH-INTERVAL;VALUE=DURATION:PT1H
X-Robots-Tag:noindex
X-PUBLISHED-TTL:PT1H
BEGIN:VTIMEZONE
TZID:Europe/London
BEGIN:DAYLIGHT
TZOFFSETFROM:+0000
TZOFFSETTO:+0100
TZNAME:BST
DTSTART:20220327T010000
END:DAYLIGHT
BEGIN:STANDARD
TZOFFSETFROM:+0100
TZOFFSETTO:+0000
TZNAME:GMT
DTSTART:20221030T010000
END:STANDARD
BEGIN:DAYLIGHT
TZOFFSETFROM:+0000
TZOFFSETTO:+0100
TZNAME:BST
DTSTART:20230326T010000
END:DAYLIGHT
BEGIN:STANDARD
TZOFFSETFROM:+0100
TZOFFSETTO:+0000
TZNAME:GMT
DTSTART:20231029T010000
END:STANDARD
BEGIN:DAYLIGHT
TZOFFSETFROM:+0000
TZOFFSETTO:+0100
TZNAME:BST
DTSTART:20240331T010000
END:DAYLIGHT
BEGIN:STANDARD
TZOFFSETFROM:+0100
TZOFFSETTO:+0000
TZNAME:GMT
DTSTART:20241027T010000
END:STANDARD
END:VTIMEZONE
BEGIN:VEVENT
DTSTART;TZID=Europe/London:20230909T100000
DTEND;TZID=Europe/London:20230909T140000
DTSTAMP:20260419T223249
CREATED:20230814T200449Z
LAST-MODIFIED:20230826T183018Z
UID:1875-1694253600-1694268000@climateactionhub.org.uk
SUMMARY:Join our Clothes Giveaway & Swap\, part of the Ironbridge Museums Heritage Open Day at Enginuity\, 9th Sept (FREE ENTRY)
DESCRIPTION:The Clothes Giveaway will run 10am – 2pm on Saturday 9th AND Sunday 10th September.  \n\n\n\nWe will be at the FREE Heritage Open Days being held across the Ironbridge Museums in September holding one of our Clothes Giveaways.  We will have adults\, childrens and baby clothes and school uniform to giveaway.  \n\n\n\nBring items to swap for free or take any items for a pay as you can donation.  \n\n\n\nClimate Action Hub Telford is a registered charity which aims to support people in Telford and Wrekin to take climate action & protect our planet by reusing & sharing things.  This lowers carbon emissions by reducing the need to buy new stuff and reducing the amount of waste going to landfill. It also helps us to support each other as our activities are provided on a pay-as-you-can basis. A win-win for people and planet.
URL:https://climateactionhub.org.uk/event/join-our-clothes-giveaway-swap-enginuity-part-of-the-ironbridge-museums-heritage-open-day
LOCATION:Enginuity\, 10 Wellington Road\, Coalbrookdale\, TF8 7DQ
CATEGORIES:Clothing Swap
ATTACH;FMTTYPE=image/png:https://climateactionhub.org.uk/wp-content/uploads/2023/08/Clothes-Swap-Enginuity-9-10.9.23-poster-1.png
END:VEVENT
END:VCALENDAR