BEGIN:VCALENDAR
VERSION:2.0
PRODID:-//Climate Action Hub Telford - ECPv6.15.20//NONSGML v1.0//EN
CALSCALE:GREGORIAN
METHOD:PUBLISH
X-WR-CALNAME:Climate Action Hub Telford
X-ORIGINAL-URL:https://climateactionhub.org.uk
X-WR-CALDESC:Events for Climate Action Hub Telford
REFRESH-INTERVAL;VALUE=DURATION:PT1H
X-Robots-Tag:noindex
X-PUBLISHED-TTL:PT1H
BEGIN:VTIMEZONE
TZID:Europe/London
BEGIN:DAYLIGHT
TZOFFSETFROM:+0000
TZOFFSETTO:+0100
TZNAME:BST
DTSTART:20210328T010000
END:DAYLIGHT
BEGIN:STANDARD
TZOFFSETFROM:+0100
TZOFFSETTO:+0000
TZNAME:GMT
DTSTART:20211031T010000
END:STANDARD
BEGIN:DAYLIGHT
TZOFFSETFROM:+0000
TZOFFSETTO:+0100
TZNAME:BST
DTSTART:20220327T010000
END:DAYLIGHT
BEGIN:STANDARD
TZOFFSETFROM:+0100
TZOFFSETTO:+0000
TZNAME:GMT
DTSTART:20221030T010000
END:STANDARD
BEGIN:DAYLIGHT
TZOFFSETFROM:+0000
TZOFFSETTO:+0100
TZNAME:BST
DTSTART:20230326T010000
END:DAYLIGHT
BEGIN:STANDARD
TZOFFSETFROM:+0100
TZOFFSETTO:+0000
TZNAME:GMT
DTSTART:20231029T010000
END:STANDARD
END:VTIMEZONE
BEGIN:VEVENT
DTSTART;TZID=Europe/London:20220809T120000
DTEND;TZID=Europe/London:20220809T140000
DTSTAMP:20260425T230543
CREATED:20220708T144930Z
LAST-MODIFIED:20220807T152130Z
UID:580-1660046400-1660053600@climateactionhub.org.uk
SUMMARY:Join our eco activities at the Nature Festival\, Bowring Park\, Wellington
DESCRIPTION:Join us at this free Nature Festival event being organised by Wellington Town Council.  We will be offering eco activities for children including bee bom making and reusing plastic and other waste as bird feeders and sowing veg and flower seeds.  Bring along old t-shirts\, clothes\, bags and fabric for printing images of nature onto. We will also have a collection point for people to donate pre used school uniform and PE kits and we will redistribute any donated items to those who need them in Telford towards the end of the summer holidays. 
URL:https://climateactionhub.org.uk/event/join-our-eco-activities-at-the-nature-festival-bowring-park-wellington
LOCATION:Bowring Park\, Haygate Road\,\, Wellington\, Telford\,\, TF1 1QX
ATTACH;FMTTYPE=image/png:https://climateactionhub.org.uk/wp-content/uploads/2022/07/image.png
ORGANIZER;CN="Wellington Town Council":MAILTO:wellingtontowncouncil@telford.gov.uk
END:VEVENT
END:VCALENDAR