BEGIN:VCALENDAR
VERSION:2.0
PRODID:-//Climate Action Hub Telford - ECPv6.15.20//NONSGML v1.0//EN
CALSCALE:GREGORIAN
METHOD:PUBLISH
X-WR-CALNAME:Climate Action Hub Telford
X-ORIGINAL-URL:https://climateactionhub.org.uk
X-WR-CALDESC:Events for Climate Action Hub Telford
REFRESH-INTERVAL;VALUE=DURATION:PT1H
X-Robots-Tag:noindex
X-PUBLISHED-TTL:PT1H
BEGIN:VTIMEZONE
TZID:Europe/London
BEGIN:DAYLIGHT
TZOFFSETFROM:+0000
TZOFFSETTO:+0100
TZNAME:BST
DTSTART:20210328T010000
END:DAYLIGHT
BEGIN:STANDARD
TZOFFSETFROM:+0100
TZOFFSETTO:+0000
TZNAME:GMT
DTSTART:20211031T010000
END:STANDARD
BEGIN:DAYLIGHT
TZOFFSETFROM:+0000
TZOFFSETTO:+0100
TZNAME:BST
DTSTART:20220327T010000
END:DAYLIGHT
BEGIN:STANDARD
TZOFFSETFROM:+0100
TZOFFSETTO:+0000
TZNAME:GMT
DTSTART:20221030T010000
END:STANDARD
BEGIN:DAYLIGHT
TZOFFSETFROM:+0000
TZOFFSETTO:+0100
TZNAME:BST
DTSTART:20230326T010000
END:DAYLIGHT
BEGIN:STANDARD
TZOFFSETFROM:+0100
TZOFFSETTO:+0000
TZNAME:GMT
DTSTART:20231029T010000
END:STANDARD
END:VTIMEZONE
BEGIN:VEVENT
DTSTART;TZID=Europe/London:20221202T100000
DTEND;TZID=Europe/London:20221202T140000
DTSTAMP:20260422T190404
CREATED:20221114T152138Z
LAST-MODIFIED:20221114T152140Z
UID:874-1669975200-1669989600@climateactionhub.org.uk
SUMMARY:Join our Festive Swap & Giveaway in Wellington
DESCRIPTION: We will be holding a Festive Swap at The Little Green Pantry\, Wellington to help you have a low carbon Christmas by reusing and regifting.  Swap any items for free or take any for a Pay as You Can donation.   We will have clothes\, toys\, household items\, books\, DVDs\, CDs and Christmas Decorations.
URL:https://climateactionhub.org.uk/event/join-our-festive-swap-giveaway-in-wellington
LOCATION:The Little Green Pantry\, 2 Crown Street\, Wellington\, TF1 1LP
END:VEVENT
END:VCALENDAR