BEGIN:VCALENDAR
VERSION:2.0
PRODID:-//Climate Action Hub Telford - ECPv6.15.20//NONSGML v1.0//EN
CALSCALE:GREGORIAN
METHOD:PUBLISH
X-WR-CALNAME:Climate Action Hub Telford
X-ORIGINAL-URL:https://climateactionhub.org.uk
X-WR-CALDESC:Events for Climate Action Hub Telford
REFRESH-INTERVAL;VALUE=DURATION:PT1H
X-Robots-Tag:noindex
X-PUBLISHED-TTL:PT1H
BEGIN:VTIMEZONE
TZID:Europe/London
BEGIN:DAYLIGHT
TZOFFSETFROM:+0000
TZOFFSETTO:+0100
TZNAME:BST
DTSTART:20220327T010000
END:DAYLIGHT
BEGIN:STANDARD
TZOFFSETFROM:+0100
TZOFFSETTO:+0000
TZNAME:GMT
DTSTART:20221030T010000
END:STANDARD
BEGIN:DAYLIGHT
TZOFFSETFROM:+0000
TZOFFSETTO:+0100
TZNAME:BST
DTSTART:20230326T010000
END:DAYLIGHT
BEGIN:STANDARD
TZOFFSETFROM:+0100
TZOFFSETTO:+0000
TZNAME:GMT
DTSTART:20231029T010000
END:STANDARD
BEGIN:DAYLIGHT
TZOFFSETFROM:+0000
TZOFFSETTO:+0100
TZNAME:BST
DTSTART:20240331T010000
END:DAYLIGHT
BEGIN:STANDARD
TZOFFSETFROM:+0100
TZOFFSETTO:+0000
TZNAME:GMT
DTSTART:20241027T010000
END:STANDARD
END:VTIMEZONE
BEGIN:VEVENT
DTSTART;TZID=Europe/London:20230325T100000
DTEND;TZID=Europe/London:20230325T140000
DTSTAMP:20260422T141705
CREATED:20230217T181834Z
LAST-MODIFIED:20230310T121645Z
UID:976-1679738400-1679752800@climateactionhub.org.uk
SUMMARY:Join our Repair\, Recycle\, Swap and Share event at Brookside Central
DESCRIPTION:We will be doing a Swap and Giveaway including books\, DVD’s\, CD’s\, toys\, games\, clothes\, and household items.  Bring any to swap for free or take away anything for a pay-as-you-can donation.   We will also be collecting for the Hygiene Bank Telford (part of Telford Crisis Support) so bring along any unused toiletries including body and face products\, hair products and accessories\, dental products and tooth brushes\, toilet roll\, laundry detergent etc. \n\n\n\nAlongside us Telford Repair Cafe will be repairing electrical items\, ornaments\, clothes\, household items and can PAT test electrical items.   \n\n\n\nTerracycle Telford will have a collection point for any hard to recycle items (see their Terracycle Telford Facebook Page for the items that can be collected)
URL:https://climateactionhub.org.uk/event/join-our-repair-recycle-swap-and-share-event-at-brookside-central
LOCATION:Brookside Central\, Bembridge\, Telford\, TF3 1LP
ATTACH;FMTTYPE=image/png:https://climateactionhub.org.uk/wp-content/uploads/2023/02/Swap-event-with-Repair-Cafe-Terracycle-25.3.23.png
END:VEVENT
END:VCALENDAR