BEGIN:VCALENDAR
VERSION:2.0
PRODID:-//Climate Action Hub Telford - ECPv6.15.20//NONSGML v1.0//EN
CALSCALE:GREGORIAN
METHOD:PUBLISH
X-WR-CALNAME:Climate Action Hub Telford
X-ORIGINAL-URL:https://climateactionhub.org.uk
X-WR-CALDESC:Events for Climate Action Hub Telford
REFRESH-INTERVAL;VALUE=DURATION:PT1H
X-Robots-Tag:noindex
X-PUBLISHED-TTL:PT1H
BEGIN:VTIMEZONE
TZID:Europe/London
BEGIN:DAYLIGHT
TZOFFSETFROM:+0000
TZOFFSETTO:+0100
TZNAME:BST
DTSTART:20220327T010000
END:DAYLIGHT
BEGIN:STANDARD
TZOFFSETFROM:+0100
TZOFFSETTO:+0000
TZNAME:GMT
DTSTART:20221030T010000
END:STANDARD
BEGIN:DAYLIGHT
TZOFFSETFROM:+0000
TZOFFSETTO:+0100
TZNAME:BST
DTSTART:20230326T010000
END:DAYLIGHT
BEGIN:STANDARD
TZOFFSETFROM:+0100
TZOFFSETTO:+0000
TZNAME:GMT
DTSTART:20231029T010000
END:STANDARD
BEGIN:DAYLIGHT
TZOFFSETFROM:+0000
TZOFFSETTO:+0100
TZNAME:BST
DTSTART:20240331T010000
END:DAYLIGHT
BEGIN:STANDARD
TZOFFSETFROM:+0100
TZOFFSETTO:+0000
TZNAME:GMT
DTSTART:20241027T010000
END:STANDARD
END:VTIMEZONE
BEGIN:VEVENT
DTSTART;TZID=Europe/London:20230520T100000
DTEND;TZID=Europe/London:20230520T130000
DTSTAMP:20260422T095629
CREATED:20230501T114732Z
LAST-MODIFIED:20230501T115355Z
UID:1042-1684576800-1684587600@climateactionhub.org.uk
SUMMARY:Join Transition Telford's Grow Local event\, Park Lane Centre\, Woodside
DESCRIPTION:20 May 2023		\n\n					\n				  at  			\n			\n				10:00 am			\n		\n									\n					-				\n			\n							\n					1:00 pm				\n			\n							BST\n						 \n\n\n\n\n\n\n\n\nCome and join us at Transition Telford’s Grow Local event.  Transition Telford will be having their annual plant sale and fundraiser.  We will also be providing eco activities making bird feeders\, have a small garden scrap store featuring household waste to use in your gardens to grow fruit\, veg and flowers.  We will have a garden book and magazine swap and tree seedling giveaway.   Shropshire Master Composters will also be providing advice on all things compost.  \n\n\n\n			 Free \n		\n\n\n\n	\n		Transition Telford\n	\n				View Organiser Website \n		\n\n\n\n	\n	\n\n	\n		Park Lane Centre\,\n	\n\n	\n						\n				\n\nPark Lane\, Woodside\n	\n		\n		Telford\,\n\n\n	TF7 5QZ\n\n\n\n\n									+ Google Map							\n		\n		\n					View Venue Website\n			\n	\n	\n\n	\n\n\n\n\n	\n\n\n\n	\n		Transition Telford's website	\n\n\n\n	\n		\n			\n				\n					\n						\n	\n	\n\n						\n							Add to calendar						\n						\n	\n\n					\n					\n						\n															\n									\n										Google Calendar									\n								\n															\n									\n										iCalendar									\n								\n															\n									\n										Outlook 365									\n								\n															\n									\n										Outlook Live
URL:https://climateactionhub.org.uk/event/join-transition-telfords-grow-local-event-park-lane-centre-woodside
LOCATION:Park Lane Centre\,\, Park Lane\, Woodside\, Telford\, TF7 5QZ
ATTACH;FMTTYPE=image/png:https://climateactionhub.org.uk/wp-content/uploads/2023/05/Grow-Local-20.5.23-3.png
END:VEVENT
END:VCALENDAR