BEGIN:VCALENDAR
VERSION:2.0
PRODID:-//Climate Action Hub Telford - ECPv6.15.20//NONSGML v1.0//EN
CALSCALE:GREGORIAN
METHOD:PUBLISH
X-WR-CALNAME:Climate Action Hub Telford
X-ORIGINAL-URL:https://climateactionhub.org.uk
X-WR-CALDESC:Events for Climate Action Hub Telford
REFRESH-INTERVAL;VALUE=DURATION:PT1H
X-Robots-Tag:noindex
X-PUBLISHED-TTL:PT1H
BEGIN:VTIMEZONE
TZID:Europe/London
BEGIN:DAYLIGHT
TZOFFSETFROM:+0000
TZOFFSETTO:+0100
TZNAME:BST
DTSTART:20220327T010000
END:DAYLIGHT
BEGIN:STANDARD
TZOFFSETFROM:+0100
TZOFFSETTO:+0000
TZNAME:GMT
DTSTART:20221030T010000
END:STANDARD
BEGIN:DAYLIGHT
TZOFFSETFROM:+0000
TZOFFSETTO:+0100
TZNAME:BST
DTSTART:20230326T010000
END:DAYLIGHT
BEGIN:STANDARD
TZOFFSETFROM:+0100
TZOFFSETTO:+0000
TZNAME:GMT
DTSTART:20231029T010000
END:STANDARD
BEGIN:DAYLIGHT
TZOFFSETFROM:+0000
TZOFFSETTO:+0100
TZNAME:BST
DTSTART:20240331T010000
END:DAYLIGHT
BEGIN:STANDARD
TZOFFSETFROM:+0100
TZOFFSETTO:+0000
TZNAME:GMT
DTSTART:20241027T010000
END:STANDARD
END:VTIMEZONE
BEGIN:VEVENT
DTSTART;TZID=Europe/London:20231208T190000
DTEND;TZID=Europe/London:20231208T210000
DTSTAMP:20260419T205045
CREATED:20231106T173109Z
LAST-MODIFIED:20231106T173554Z
UID:2011-1702062000-1702069200@climateactionhub.org.uk
SUMMARY:Our sponsored evening film showing for COP28: My Extinction\, Wellington Orbit
DESCRIPTION:We will be sponsoring a film at Wellington Orbit to coincide with this year’s COP28\, which is running from the 30th November – 12th December\, where world leaders\, businesses\, faith and NGO groups meet to discuss the world’s progress towards achieving the Greenhouse Gas reduction targets set out during the Paris Agreement in 2015.    \n\n\n\nThis year COP28 will be held in Dubai\, United Arab Emirates\, a major fossil fuel producing nation.  The COP28 president\, Dr Sultan Ahmed Al Jabar is also CEO of Abu Dhabi National Oil Company.  If like us you are wondering whether those in power are taking the escalating and increasingly visible threats of the climate and biodiversity crises seriously enough\, come along to one of the two film showings we are sponsoring on Friday 8th December at Wellington Orbit to consider what action you can take.   \n\n\n\nYou can book your tickets from Wellington Orbit either online via www.wellingtonorbit.co.uk\, by phone 01952 743 377 or in person (1 Station Road\, Wellington\, Telford\, TF1 1BY).  \n\n\n\nPlease help us to spread the word about this film to your friends\, colleagues and networks.  We need to sell as many tickets as possible to cover our costs!  \n\n\n\nThe film My Extinction is a relatable\, and at times funny\, portrait\, about a concerned yet ineffectual dad who finds the first step is letting those unbearable feelings of climate anxiety in\, instead of pushing them aside. But as he meets others like him\, he discovers how oil-backed propagandists funded our denial and paralysis. The film sets out to unmask the vested interests responsible\, helping raise a generation’s leading authors in vibrant chorus at the 2020 game-changing Tufton Street protest. My Extinction is a revealingly honest account of how to feel your feelings\, act on your privilege\, and get active when threatened with extinction.
URL:https://climateactionhub.org.uk/event/our-sponsored-film-showing-for-cop28-my-extinction-wellington-orbit-2
LOCATION:Wellington Orbit\, 1 Station Road\, Wellington\, Telford\, TF1 1BY
CATEGORIES:Climate Action Hub Event,Film
ATTACH;FMTTYPE=image/png:https://climateactionhub.org.uk/wp-content/uploads/2023/11/My-extinction-film-wellington-8.12.23-Flyer-side-2-e1699291369644.png
END:VEVENT
END:VCALENDAR