BEGIN:VCALENDAR
VERSION:2.0
PRODID:-//Climate Action Hub Telford - ECPv6.15.20//NONSGML v1.0//EN
CALSCALE:GREGORIAN
METHOD:PUBLISH
X-WR-CALNAME:Climate Action Hub Telford
X-ORIGINAL-URL:https://climateactionhub.org.uk
X-WR-CALDESC:Events for Climate Action Hub Telford
REFRESH-INTERVAL;VALUE=DURATION:PT1H
X-Robots-Tag:noindex
X-PUBLISHED-TTL:PT1H
BEGIN:VTIMEZONE
TZID:Europe/London
BEGIN:DAYLIGHT
TZOFFSETFROM:+0000
TZOFFSETTO:+0100
TZNAME:BST
DTSTART:20220327T010000
END:DAYLIGHT
BEGIN:STANDARD
TZOFFSETFROM:+0100
TZOFFSETTO:+0000
TZNAME:GMT
DTSTART:20221030T010000
END:STANDARD
BEGIN:DAYLIGHT
TZOFFSETFROM:+0000
TZOFFSETTO:+0100
TZNAME:BST
DTSTART:20230326T010000
END:DAYLIGHT
BEGIN:STANDARD
TZOFFSETFROM:+0100
TZOFFSETTO:+0000
TZNAME:GMT
DTSTART:20231029T010000
END:STANDARD
BEGIN:DAYLIGHT
TZOFFSETFROM:+0000
TZOFFSETTO:+0100
TZNAME:BST
DTSTART:20240331T010000
END:DAYLIGHT
BEGIN:STANDARD
TZOFFSETFROM:+0100
TZOFFSETTO:+0000
TZNAME:GMT
DTSTART:20241027T010000
END:STANDARD
END:VTIMEZONE
BEGIN:VEVENT
DTSTART;TZID=Europe/London:20231125T100000
DTEND;TZID=Europe/London:20231125T140000
DTSTAMP:20260419T191033
CREATED:20231120T114259Z
LAST-MODIFIED:20231120T114301Z
UID:2016-1700906400-1700920800@climateactionhub.org.uk
SUMMARY:Repair Cafe & Terracycle\, Lawley Community Centre
DESCRIPTION:Telford Repair Cafe will be repairing and PAT testing electrical items\, they can also mend ornaments\, household items and textile items including clothes\, home furnishings and soft toys.  Bring any items before 1pm. \n\n\n\nTerracycle Telford will also be there so you can bring along any hard to recycle items (see our website for details). The range of items you can recycle has now been expanded to include coins\, stamps\, jewellery\, mobile phones and gadgets (see attached photo below).   \n\n\n\nIf the Madeley Christmas Lights event that we will be at is cancelled due to poor weather we will bring our Christmas giveaway to this event!. 
URL:https://climateactionhub.org.uk/event/repair-cafe-terracycle-lawley-community-centre
LOCATION:Lawley Community Centre\,  Arleston Lane\, Lawley\, TF4 2BF\, Arleston Lane\, Lawley\,\, TF4 2BF
END:VEVENT
END:VCALENDAR