BEGIN:VCALENDAR
VERSION:2.0
PRODID:-//Climate Action Hub Telford - ECPv6.15.20//NONSGML v1.0//EN
CALSCALE:GREGORIAN
METHOD:PUBLISH
X-WR-CALNAME:Climate Action Hub Telford
X-ORIGINAL-URL:https://climateactionhub.org.uk
X-WR-CALDESC:Events for Climate Action Hub Telford
REFRESH-INTERVAL;VALUE=DURATION:PT1H
X-Robots-Tag:noindex
X-PUBLISHED-TTL:PT1H
BEGIN:VTIMEZONE
TZID:Europe/London
BEGIN:DAYLIGHT
TZOFFSETFROM:+0000
TZOFFSETTO:+0100
TZNAME:BST
DTSTART:20210328T010000
END:DAYLIGHT
BEGIN:STANDARD
TZOFFSETFROM:+0100
TZOFFSETTO:+0000
TZNAME:GMT
DTSTART:20211031T010000
END:STANDARD
BEGIN:DAYLIGHT
TZOFFSETFROM:+0000
TZOFFSETTO:+0100
TZNAME:BST
DTSTART:20220327T010000
END:DAYLIGHT
BEGIN:STANDARD
TZOFFSETFROM:+0100
TZOFFSETTO:+0000
TZNAME:GMT
DTSTART:20221030T010000
END:STANDARD
BEGIN:DAYLIGHT
TZOFFSETFROM:+0000
TZOFFSETTO:+0100
TZNAME:BST
DTSTART:20230326T010000
END:DAYLIGHT
BEGIN:STANDARD
TZOFFSETFROM:+0100
TZOFFSETTO:+0000
TZNAME:GMT
DTSTART:20231029T010000
END:STANDARD
END:VTIMEZONE
BEGIN:VEVENT
DTSTART;TZID=Europe/London:20221029T100000
DTEND;TZID=Europe/London:20221029T140000
DTSTAMP:20260425T132728
CREATED:20221007T100850Z
LAST-MODIFIED:20221011T200656Z
UID:817-1667037600-1667052000@climateactionhub.org.uk
SUMMARY:Join Our Repair\, Recycle\, Swap & Share Event
DESCRIPTION:We will be doing a Swap and Giveaway including books\, DVD’s CD’s\, toys\, clothes\, or household items.  Bring any  to swap for free or take away anything for a pay-as-you-can donation.  Alongside us Telford Repair Cafe will be repairing electrical items\, IT equipment\, clothes\, household items and PAT testing.  Terracycle Telford will also be joining us for the first time so you can bring along any hard to recycle items (see their Terracycle Telford Facebook Page for the items that can be collected)  \n\n\n\nWe are also on the look out for more toy and Christmas decorations donations for our upcoming swaps in November and December so if you have any spare do come along and drop them off with us.
URL:https://climateactionhub.org.uk/event/repair-recycle-and-swap-event
LOCATION:Brookside Central\, TF31LP
END:VEVENT
END:VCALENDAR