BEGIN:VCALENDAR
VERSION:2.0
PRODID:-//Climate Action Hub Telford - ECPv6.15.20//NONSGML v1.0//EN
CALSCALE:GREGORIAN
METHOD:PUBLISH
X-WR-CALNAME:Climate Action Hub Telford
X-ORIGINAL-URL:https://climateactionhub.org.uk
X-WR-CALDESC:Events for Climate Action Hub Telford
REFRESH-INTERVAL;VALUE=DURATION:PT1H
X-Robots-Tag:noindex
X-PUBLISHED-TTL:PT1H
BEGIN:VTIMEZONE
TZID:Europe/London
BEGIN:DAYLIGHT
TZOFFSETFROM:+0000
TZOFFSETTO:+0100
TZNAME:BST
DTSTART:20230326T010000
END:DAYLIGHT
BEGIN:STANDARD
TZOFFSETFROM:+0100
TZOFFSETTO:+0000
TZNAME:GMT
DTSTART:20231029T010000
END:STANDARD
BEGIN:DAYLIGHT
TZOFFSETFROM:+0000
TZOFFSETTO:+0100
TZNAME:BST
DTSTART:20240331T010000
END:DAYLIGHT
BEGIN:STANDARD
TZOFFSETFROM:+0100
TZOFFSETTO:+0000
TZNAME:GMT
DTSTART:20241027T010000
END:STANDARD
BEGIN:DAYLIGHT
TZOFFSETFROM:+0000
TZOFFSETTO:+0100
TZNAME:BST
DTSTART:20250330T010000
END:DAYLIGHT
BEGIN:STANDARD
TZOFFSETFROM:+0100
TZOFFSETTO:+0000
TZNAME:GMT
DTSTART:20251026T010000
END:STANDARD
END:VTIMEZONE
BEGIN:VEVENT
DTSTART;TZID=Europe/London:20240127T100000
DTEND;TZID=Europe/London:20240127T140000
DTSTAMP:20260420T001952
CREATED:20240108T162113Z
LAST-MODIFIED:20240112T165620Z
UID:2100-1706349600-1706364000@climateactionhub.org.uk
SUMMARY:Repair\, Recycle\, Swap & Share Event\, Leegomery
DESCRIPTION:We will be doing a Swap and Giveaway for all your unwanted books\, DVD’s\, CD’s\, games\, toys\, clothes\, ornaments and household items.  Swap for free or take anything on a pay-as-you-can basis.   \n\n\n\nTelford Repair Cafe will be repairing electrical items\, clothes\, home furnishings\, soft toys\, ornaments\, household items and PAT testing electrical items.  Please bring any items for repair before 1pm. \n\n\n\nTerracycle Telford will be with us so bring along any hard to recycle items. See posters below for details. \n\n\n\nMarches Energy Agency will also be joining us to provide energy efficiency advice for your home\, advice on whole house retrofit and information about the grants that are available.   \n\n\n\n\n\n\n\n\n\n\n\n\n\n\n\n\n\nImage of items you can recycle including jewellery\, coins\, stamps\, mobile phones.
URL:https://climateactionhub.org.uk/event/repair-recycle-swap-share-event-leegomery
LOCATION:Leegomery Community Centre\, Leegate Avenue\, Leegomery\, Telford\, TF1 6NA
CATEGORIES:Swap,Terracycle
ATTACH;FMTTYPE=image/png:https://climateactionhub.org.uk/wp-content/uploads/2024/01/Repair-Recycle-Swap-Share-event-Leegomery-27.1.24.png
END:VEVENT
END:VCALENDAR