BEGIN:VCALENDAR
VERSION:2.0
PRODID:-//Climate Action Hub Telford - ECPv6.15.20//NONSGML v1.0//EN
CALSCALE:GREGORIAN
METHOD:PUBLISH
X-WR-CALNAME:Climate Action Hub Telford
X-ORIGINAL-URL:https://climateactionhub.org.uk
X-WR-CALDESC:Events for Climate Action Hub Telford
REFRESH-INTERVAL;VALUE=DURATION:PT1H
X-Robots-Tag:noindex
X-PUBLISHED-TTL:PT1H
BEGIN:VTIMEZONE
TZID:Europe/London
BEGIN:DAYLIGHT
TZOFFSETFROM:+0000
TZOFFSETTO:+0100
TZNAME:BST
DTSTART:20230326T010000
END:DAYLIGHT
BEGIN:STANDARD
TZOFFSETFROM:+0100
TZOFFSETTO:+0000
TZNAME:GMT
DTSTART:20231029T010000
END:STANDARD
BEGIN:DAYLIGHT
TZOFFSETFROM:+0000
TZOFFSETTO:+0100
TZNAME:BST
DTSTART:20240331T010000
END:DAYLIGHT
BEGIN:STANDARD
TZOFFSETFROM:+0100
TZOFFSETTO:+0000
TZNAME:GMT
DTSTART:20241027T010000
END:STANDARD
BEGIN:DAYLIGHT
TZOFFSETFROM:+0000
TZOFFSETTO:+0100
TZNAME:BST
DTSTART:20250330T010000
END:DAYLIGHT
BEGIN:STANDARD
TZOFFSETFROM:+0100
TZOFFSETTO:+0000
TZNAME:GMT
DTSTART:20251026T010000
END:STANDARD
END:VTIMEZONE
BEGIN:VEVENT
DTSTART;TZID=Europe/London:20240427T100000
DTEND;TZID=Europe/London:20240427T140000
DTSTAMP:20260420T002113
CREATED:20240318T141333Z
LAST-MODIFIED:20240324T205740Z
UID:2282-1714212000-1714226400@climateactionhub.org.uk
SUMMARY:Repair\, Recycle\, Swap & Share event\, Wellington Methodist Church
DESCRIPTION:We will be doing a Swap and Giveaway for all your unwanted books\, DVD’s\, CD’s\, games\, toys\, clothes\, ornaments and household items.  Swap for free or take anything on a pay-as-you-can basis.   \n\n\n\nTelford Repair Cafe will be repairing clothes\, home furnishings\, soft toys\, ornaments\, household items\, electrical items including PAT testing.  Please bring any items for repair before 12pm. \n\n\n\nTerracycle Telford will be with us so bring along any hard to recycle items. See posters below for details.
URL:https://climateactionhub.org.uk/event/repair-recycle-swap-share-event-wellington-methodist-church
LOCATION:Wellington Methodist Church\, New Street\, Wellington\, TF1 1LU
CATEGORIES:Climate Action Hub Event,Swap,Terracycle
ATTACH;FMTTYPE=image/png:https://climateactionhub.org.uk/wp-content/uploads/2024/03/Repair-Recycle-Swap-Share-event-Wellington-Methodist-Church-27.4.24-A4-1.png
END:VEVENT
END:VCALENDAR