BEGIN:VCALENDAR
VERSION:2.0
PRODID:-//Climate Action Hub Telford - ECPv6.15.20//NONSGML v1.0//EN
CALSCALE:GREGORIAN
METHOD:PUBLISH
X-WR-CALNAME:Climate Action Hub Telford
X-ORIGINAL-URL:https://climateactionhub.org.uk
X-WR-CALDESC:Events for Climate Action Hub Telford
REFRESH-INTERVAL;VALUE=DURATION:PT1H
X-Robots-Tag:noindex
X-PUBLISHED-TTL:PT1H
BEGIN:VTIMEZONE
TZID:Europe/London
BEGIN:DAYLIGHT
TZOFFSETFROM:+0000
TZOFFSETTO:+0100
TZNAME:BST
DTSTART:20230326T010000
END:DAYLIGHT
BEGIN:STANDARD
TZOFFSETFROM:+0100
TZOFFSETTO:+0000
TZNAME:GMT
DTSTART:20231029T010000
END:STANDARD
BEGIN:DAYLIGHT
TZOFFSETFROM:+0000
TZOFFSETTO:+0100
TZNAME:BST
DTSTART:20240331T010000
END:DAYLIGHT
BEGIN:STANDARD
TZOFFSETFROM:+0100
TZOFFSETTO:+0000
TZNAME:GMT
DTSTART:20241027T010000
END:STANDARD
BEGIN:DAYLIGHT
TZOFFSETFROM:+0000
TZOFFSETTO:+0100
TZNAME:BST
DTSTART:20250330T010000
END:DAYLIGHT
BEGIN:STANDARD
TZOFFSETFROM:+0100
TZOFFSETTO:+0000
TZNAME:GMT
DTSTART:20251026T010000
END:STANDARD
END:VTIMEZONE
BEGIN:VEVENT
DTSTART;TZID=Europe/London:20241026T100000
DTEND;TZID=Europe/London:20241026T140000
DTSTAMP:20260421T105656
CREATED:20241015T113310Z
LAST-MODIFIED:20241015T113312Z
UID:2483-1729936800-1729951200@climateactionhub.org.uk
SUMMARY:Repair\, Recycle\, Swap & Share\, Turreff Hall\, Donnington
DESCRIPTION:Join our Swap and Giveaway including toys\, books\, DVD’s\, CD’s\, household items\, clothes etc.  Swap for free or take anything on a pay-as-you-can basis.   \n\n\n\nTelford Repair Cafe will fix ornaments\, clothing\, soft toys\, home furnishings\, household & electrical items including PAT testing [No petrol powered items].  Please bring any items for repair before 12pm for collection by 2pm. \n\n\n\nMake use of our recycling facilities including Terracycle and the opportunity to recycle mobile phones\, electronic gadgets\, jewellery\, stamps and coins.
URL:https://climateactionhub.org.uk/event/repair-recycle-swap-share-turreff-hall-donnington
LOCATION:Turreff Hall\, Turreff Avenue\, Donnington\, Telford\, TF2 8HG\, Turreff Hall\, Turreff Avenue\, Donnington\, Telford\, TF2 8HG
CATEGORIES:Repair Cafe,Swap,Terracycle
ATTACH;FMTTYPE=image/png:https://climateactionhub.org.uk/wp-content/uploads/2024/10/Repair-Recycle-Swap-Share-event-Donnington-26.10.24-A4.png
END:VEVENT
END:VCALENDAR