BEGIN:VCALENDAR
VERSION:2.0
PRODID:-//Climate Action Hub Telford - ECPv6.15.20//NONSGML v1.0//EN
CALSCALE:GREGORIAN
METHOD:PUBLISH
X-WR-CALNAME:Climate Action Hub Telford
X-ORIGINAL-URL:https://climateactionhub.org.uk
X-WR-CALDESC:Events for Climate Action Hub Telford
REFRESH-INTERVAL;VALUE=DURATION:PT1H
X-Robots-Tag:noindex
X-PUBLISHED-TTL:PT1H
BEGIN:VTIMEZONE
TZID:Europe/London
BEGIN:DAYLIGHT
TZOFFSETFROM:+0000
TZOFFSETTO:+0100
TZNAME:BST
DTSTART:20220327T010000
END:DAYLIGHT
BEGIN:STANDARD
TZOFFSETFROM:+0100
TZOFFSETTO:+0000
TZNAME:GMT
DTSTART:20221030T010000
END:STANDARD
BEGIN:DAYLIGHT
TZOFFSETFROM:+0000
TZOFFSETTO:+0100
TZNAME:BST
DTSTART:20230326T010000
END:DAYLIGHT
BEGIN:STANDARD
TZOFFSETFROM:+0100
TZOFFSETTO:+0000
TZNAME:GMT
DTSTART:20231029T010000
END:STANDARD
BEGIN:DAYLIGHT
TZOFFSETFROM:+0000
TZOFFSETTO:+0100
TZNAME:BST
DTSTART:20240331T010000
END:DAYLIGHT
BEGIN:STANDARD
TZOFFSETFROM:+0100
TZOFFSETTO:+0000
TZNAME:GMT
DTSTART:20241027T010000
END:STANDARD
END:VTIMEZONE
BEGIN:VEVENT
DTSTART;TZID=Europe/London:20230826T100000
DTEND;TZID=Europe/London:20230826T140000
DTSTAMP:20260419T235929
CREATED:20230707T141217Z
LAST-MODIFIED:20230821T083007Z
UID:1663-1693044000-1693058400@climateactionhub.org.uk
SUMMARY:Repair\, Swap and Share event\, Dawley
DESCRIPTION:Dawley Social Club\, King Street\, Dawley\, TF4 2AG  \n\n\n\n\n\n\n\nWe will be doing a Swap and Giveaway for all your unwanted books\, DVD’s CD’s\, games\, toys\, clothes\, ornaments and household items.  Swap for free or take anything on a pay-as-you-can basis.   \n\n\n\nAlongside us Telford Repair Cafe will be repairing and PAT testing electrical items\, they can also mend ornaments\, household items and textile items including clothes\, home furnishings and soft toys.  Please bring any repairs before 1pm. \n\n\n\nTerracycle Telford will not be with us this time.
URL:https://climateactionhub.org.uk/event/repair-swap-and-share-event-dawley
LOCATION:Dawley Social Club\, King Street\, Dawley\, TF4 2AG
CATEGORIES:Climate Action Hub Event,Swap
ATTACH;FMTTYPE=image/png:https://climateactionhub.org.uk/wp-content/uploads/2023/07/Repair-Swap-and-Share-event-Dawley-Social-Club-26.8.23.png
END:VEVENT
END:VCALENDAR