BEGIN:VCALENDAR
VERSION:2.0
PRODID:-//Climate Action Hub Telford - ECPv6.15.20//NONSGML v1.0//EN
CALSCALE:GREGORIAN
METHOD:PUBLISH
X-WR-CALNAME:Climate Action Hub Telford
X-ORIGINAL-URL:https://climateactionhub.org.uk
X-WR-CALDESC:Events for Climate Action Hub Telford
REFRESH-INTERVAL;VALUE=DURATION:PT1H
X-Robots-Tag:noindex
X-PUBLISHED-TTL:PT1H
BEGIN:VTIMEZONE
TZID:Europe/London
BEGIN:DAYLIGHT
TZOFFSETFROM:+0000
TZOFFSETTO:+0100
TZNAME:BST
DTSTART:20220327T010000
END:DAYLIGHT
BEGIN:STANDARD
TZOFFSETFROM:+0100
TZOFFSETTO:+0000
TZNAME:GMT
DTSTART:20221030T010000
END:STANDARD
BEGIN:DAYLIGHT
TZOFFSETFROM:+0000
TZOFFSETTO:+0100
TZNAME:BST
DTSTART:20230326T010000
END:DAYLIGHT
BEGIN:STANDARD
TZOFFSETFROM:+0100
TZOFFSETTO:+0000
TZNAME:GMT
DTSTART:20231029T010000
END:STANDARD
BEGIN:DAYLIGHT
TZOFFSETFROM:+0000
TZOFFSETTO:+0100
TZNAME:BST
DTSTART:20240331T010000
END:DAYLIGHT
BEGIN:STANDARD
TZOFFSETFROM:+0100
TZOFFSETTO:+0000
TZNAME:GMT
DTSTART:20241027T010000
END:STANDARD
END:VTIMEZONE
BEGIN:VEVENT
DTSTART;TZID=Europe/London:20230805T190000
DTEND;TZID=Europe/London:20230805T210000
DTSTAMP:20260420T002149
CREATED:20230707T140155Z
LAST-MODIFIED:20230707T141433Z
UID:1655-1691262000-1691269200@climateactionhub.org.uk
SUMMARY:Our sponsored film showing "The Felling"\, Wellington Orbit
DESCRIPTION:The Orbit Cinema\, Station Road\, Wellington\, TF1 1BY \n\n\n\n\n\n\n\nAs part of Wellington Green Festival we are sponsoring this film showing at The Orbit cinema to raise awareness of the urgent need to protect Nature. We need to sell as many seats as possible so please help to share the word! \n\n\n\nYou can book your tickets via The Orbit website https://wellingtonorbit.co.uk/film/the-felling/ or by calling in to the Box Office or ringing 01952 743377. \n\n\n\n“The film “The Felling” is a first-hand account of an extraordinary and shocking David-and-Goliath tale\, where Sheffield citizens from 18-90 years old rise up and become modern day heroes by putting their bodies on the line to stop the destruction of their city’s healthy street trees and help save the Planet from climate Armageddon. The documentary shows how a community of determined residents in one of Europe’s greenest cities\, battled peacefully with a powerful city council\, the police and a giant multinational corporation who came to chop down their beloved street trees in the middle of the night\, as part of a massive £2.2 billion private contract to maintain their city’s highways.  When an injunction threatens peaceful protesters with bankruptcy and imprisonment\, ordinary citizens are forced to ask themselves the crucial question: How far am I prepared to go to save a tree?”
URL:https://climateactionhub.org.uk/event/saturday-5th-august-7pm-our-sponsored-film-showing-the-felling
CATEGORIES:Climate Action Hub Event,Film
ATTACH;FMTTYPE=image/png:https://climateactionhub.org.uk/wp-content/uploads/2023/07/The-felling-film-flyer-5.8.23.png
END:VEVENT
END:VCALENDAR