BEGIN:VCALENDAR
VERSION:2.0
PRODID:-//Climate Action Hub Telford - ECPv6.15.20//NONSGML v1.0//EN
CALSCALE:GREGORIAN
METHOD:PUBLISH
X-WR-CALNAME:Climate Action Hub Telford
X-ORIGINAL-URL:https://climateactionhub.org.uk
X-WR-CALDESC:Events for Climate Action Hub Telford
REFRESH-INTERVAL;VALUE=DURATION:PT1H
X-Robots-Tag:noindex
X-PUBLISHED-TTL:PT1H
BEGIN:VTIMEZONE
TZID:Europe/London
BEGIN:DAYLIGHT
TZOFFSETFROM:+0000
TZOFFSETTO:+0100
TZNAME:BST
DTSTART:20230326T010000
END:DAYLIGHT
BEGIN:STANDARD
TZOFFSETFROM:+0100
TZOFFSETTO:+0000
TZNAME:GMT
DTSTART:20231029T010000
END:STANDARD
BEGIN:DAYLIGHT
TZOFFSETFROM:+0000
TZOFFSETTO:+0100
TZNAME:BST
DTSTART:20240331T010000
END:DAYLIGHT
BEGIN:STANDARD
TZOFFSETFROM:+0100
TZOFFSETTO:+0000
TZNAME:GMT
DTSTART:20241027T010000
END:STANDARD
BEGIN:DAYLIGHT
TZOFFSETFROM:+0000
TZOFFSETTO:+0100
TZNAME:BST
DTSTART:20250330T010000
END:DAYLIGHT
BEGIN:STANDARD
TZOFFSETFROM:+0100
TZOFFSETTO:+0000
TZNAME:GMT
DTSTART:20251026T010000
END:STANDARD
END:VTIMEZONE
BEGIN:VEVENT
DTSTART;TZID=Europe/London:20240224T100000
DTEND;TZID=Europe/London:20240224T140000
DTSTAMP:20260420T001017
CREATED:20240119T103957Z
LAST-MODIFIED:20240119T103958Z
UID:2119-1708768800-1708783200@climateactionhub.org.uk
SUMMARY:Seed Swap with Transition Telford plus Repair\, Recycle & Garden Scrap Store\, Arleston
DESCRIPTION:Join Transition Telford’s Seed Swap.  Bring any fruit\, vegetable and flower seeds along to swap or take for a pay as you can donation. \n\n\n\nJoin our Garden Scrap Store and Tree Seedling Giveaway which will include gardening books\, garden pots and waste that can be used for growing food.  Swap for free or take anything on a pay-as-you-can basis.   \n\n\n\nTelford Repair Cafe will be repairing electrical items\, clothes\, home furnishings\, soft toys\, ornaments\, household items and PAT testing electrical items.  Please bring any items for repair before 1pm. \n\n\n\nTerracycle Telford will provide recycling facilities so bring along any hard to recycle items. See posters below for full details of what can now be recycled. 
URL:https://climateactionhub.org.uk/event/seed-swap-with-transition-telford-plus-repair-recycle-garden-scrap-store-arleston
LOCATION:Arleston Community Centre\, 22 St Giles Close\, Arleston\, Telford\,\, TF1 2AB
CATEGORIES:Climate Action Hub Event,Garden Scrap Store,Terracycle,Third Party Event,Tree and Plant Giveaway
ATTACH;FMTTYPE=image/png:https://climateactionhub.org.uk/wp-content/uploads/2024/01/Transition-Telfords-Seed-Swap-Arleston-24.2.23-with-Tree-Seedling-Giveaway-Repair-Cafe-Terracycle-A4-poster.png
END:VEVENT
END:VCALENDAR