BEGIN:VCALENDAR
VERSION:2.0
PRODID:-//Climate Action Hub Telford - ECPv6.15.20//NONSGML v1.0//EN
CALSCALE:GREGORIAN
METHOD:PUBLISH
X-WR-CALNAME:Climate Action Hub Telford
X-ORIGINAL-URL:https://climateactionhub.org.uk
X-WR-CALDESC:Events for Climate Action Hub Telford
REFRESH-INTERVAL;VALUE=DURATION:PT1H
X-Robots-Tag:noindex
X-PUBLISHED-TTL:PT1H
BEGIN:VTIMEZONE
TZID:Europe/London
BEGIN:DAYLIGHT
TZOFFSETFROM:+0000
TZOFFSETTO:+0100
TZNAME:BST
DTSTART:20240331T010000
END:DAYLIGHT
BEGIN:STANDARD
TZOFFSETFROM:+0100
TZOFFSETTO:+0000
TZNAME:GMT
DTSTART:20241027T010000
END:STANDARD
BEGIN:DAYLIGHT
TZOFFSETFROM:+0000
TZOFFSETTO:+0100
TZNAME:BST
DTSTART:20250330T010000
END:DAYLIGHT
BEGIN:STANDARD
TZOFFSETFROM:+0100
TZOFFSETTO:+0000
TZNAME:GMT
DTSTART:20251026T010000
END:STANDARD
BEGIN:DAYLIGHT
TZOFFSETFROM:+0000
TZOFFSETTO:+0100
TZNAME:BST
DTSTART:20260329T010000
END:DAYLIGHT
BEGIN:STANDARD
TZOFFSETFROM:+0100
TZOFFSETTO:+0000
TZNAME:GMT
DTSTART:20261025T010000
END:STANDARD
END:VTIMEZONE
BEGIN:VEVENT
DTSTART;TZID=Europe/London:20250405T103000
DTEND;TZID=Europe/London:20250405T143000
DTSTAMP:20260419T205139
CREATED:20241108T163544Z
LAST-MODIFIED:20250308T131301Z
UID:2523-1743849000-1743863400@climateactionhub.org.uk
SUMMARY:Sustainable Saturday event - Sustainable Gardening\, Belmont Hall\, Wellington
DESCRIPTION:Join us for our free Sustainable Saturday event on the theme of Sustainable Gardening! \n\n\n\nEvent starts at 10.30am and runs until 2.30pm. \n\n\n\nPlant giveaway including tree seedlings\, edible plants and seedlings (herbs\, veg\, fruit canes\, seed potatoes)\, seeds and indoor plants  \n\n\n\nGarden Scrap Stall (including garden equipment\, tools\, pots etc). You can bring items along to swap or to donate and take anything you want for a pay as you can donation.  \n\n\n\nGardening book and magazine giveaway \n\n\n\nGardening advice and services from local expert The Green Cargo Gardener  \n\n\n\nGarden Organic Master Composters: composting & organic gardening advice and activities \n\n\n\nMeet Local Allotment & Gardening Groups  \n\n\n\nChildren’s Garden Eco Activities \n\n\n\nLeaflet stand advertising other organisations who are working on local climate and eco action  \n\n\n\nSwap and Giveaway: Swap for free or take any item for a pay as you can donation including household items\, books\, DVD’s\, toys\, clothes. By sharing resources we can reduce our carbon emissions and save money too. \n\n\n\nRecycling: Make use of our recycling facilities including Terracycle (please see the Terracycle Telford Facebook page for details of what you can recycle). We also offer the opportunity to recycle electronic gadgets\, jewellery\, stamps and coins (see posters below for details) and have a new mobile phone collection point courtesy of local Coalport company Connected Mobiles . \n\n\n\nEco Library: Explore our new eco library of amazing books and magazines which you can borrow on Nature\, climate and living life in a more sustainable way. \n\n\n\nPlant based drinks and snacks served at the event for a pay as you can donation
URL:https://climateactionhub.org.uk/event/sustainable-saturday-event-sustainable-gardening-belmont-hall-wellington
LOCATION:Belmont Hall\, New Street\, Wellington\, Shropshire\, TF1 1LU
CATEGORIES:Climate Action Hub Event,Eco Library,Garden Scrap Store,Swap,Terracycle,Tree and Plant Giveaway,Vegan Food and Drink
ATTACH;FMTTYPE=image/png:https://climateactionhub.org.uk/wp-content/uploads/2024/11/Sustainable-Saturday-Gardening-5.4.25.png
END:VEVENT
END:VCALENDAR