BEGIN:VCALENDAR
VERSION:2.0
PRODID:-//Climate Action Hub Telford - ECPv6.15.20//NONSGML v1.0//EN
CALSCALE:GREGORIAN
METHOD:PUBLISH
X-WR-CALNAME:Climate Action Hub Telford
X-ORIGINAL-URL:https://climateactionhub.org.uk
X-WR-CALDESC:Events for Climate Action Hub Telford
REFRESH-INTERVAL;VALUE=DURATION:PT1H
X-Robots-Tag:noindex
X-PUBLISHED-TTL:PT1H
BEGIN:VTIMEZONE
TZID:Europe/London
BEGIN:DAYLIGHT
TZOFFSETFROM:+0000
TZOFFSETTO:+0100
TZNAME:BST
DTSTART:20230326T010000
END:DAYLIGHT
BEGIN:STANDARD
TZOFFSETFROM:+0100
TZOFFSETTO:+0000
TZNAME:GMT
DTSTART:20231029T010000
END:STANDARD
BEGIN:DAYLIGHT
TZOFFSETFROM:+0000
TZOFFSETTO:+0100
TZNAME:BST
DTSTART:20240331T010000
END:DAYLIGHT
BEGIN:STANDARD
TZOFFSETFROM:+0100
TZOFFSETTO:+0000
TZNAME:GMT
DTSTART:20241027T010000
END:STANDARD
BEGIN:DAYLIGHT
TZOFFSETFROM:+0000
TZOFFSETTO:+0100
TZNAME:BST
DTSTART:20250330T010000
END:DAYLIGHT
BEGIN:STANDARD
TZOFFSETFROM:+0100
TZOFFSETTO:+0000
TZNAME:GMT
DTSTART:20251026T010000
END:STANDARD
END:VTIMEZONE
BEGIN:VEVENT
DTSTART;TZID=Europe/London:20241201T110000
DTEND;TZID=Europe/London:20241201T150000
DTSTAMP:20260419T173938
CREATED:20231215T210733Z
LAST-MODIFIED:20241108T153358Z
UID:2073-1733050800-1733065200@climateactionhub.org.uk
SUMMARY:Sustainable Sunday\, Sustainable Christmas Event\, Belmont Hall\, Wellington
DESCRIPTION:Join our Sustainable Sunday event in Wellington for our Sustainable Christmas workshops & activities and Festive swap\, with additional recycling facilities and eco library. \n\n\n\nThis event is FREE.  Refreshments and vegan snacks will be available throughout \n\n\n\nEvent starts at 11am and runs until 3pm. \n\n\n\nChristmas wreath making workshops for adults with local artist Art with Anna M: (the workshop and all materials are provided for free\, donations to support our work are welcomed). PLEASE BOOK YOUR PLACE VIA EVENTBRITE for either: the 11am – 12.30pm workshop  OR 1pm – 2.30pm workshop.  \n\n\n\nChristmas gift wrap & tag decorating workshop for children with Art with Anna M: No need to book – turn up anytime (the workshop and all materials are provided for free\, donations to support our work are welcomed).   \n\n\n\nDo it yourself Christmas card and decorations making workshop: All materials provided. No need to book – turn up anytime.   \n\n\n\nChristmas swap and giveaway: bring along gifts\, toys\, Christmas decorations\, gift bags\, clothes\, books\, DVD’s\, CD’s\, etc. to swap for free or take for a pay as you can donation. \n\n\n\nTelford Energy Advice (Marches Energy Agency) will provide advice about how to keep warm at home this winter. \n\n\n\nSwap and Giveaway: Swap for free or take any item for a pay as you can donation including household items\, books\, DVD’s\, toys\, clothes. By sharing resources we can reduce our carbon emissions and save money too. \n\n\n\nRecycling: Make use of our recycling facilities including Terracycle (please see the Terracycle Telford Facebook page for details of what you can recycle). We also offer the opportunity to recycle mobile phones\, electronic gadgets\, jewellery\, stamps and coins (see posters below for details). \n\n\n\nEco Library: Explore our new eco library of amazing books and magazines which you can borrow on Nature\, climate and living life in a more sustainable way. \n\n\n\nImage of items you can recycle including jewellery\, coins\, stamps\, mobile phones.
URL:https://climateactionhub.org.uk/event/sustainable-sunday-belmont-hall-wellington
LOCATION:Belmont Hall\, New Street\, Wellington\, Shropshire\, TF1 1LU
CATEGORIES:Climate Action Hub Event,Eco arts and crafts,Eco Library,Festive/Christmas Swap,Swap,Terracycle,Toy Swap,Vegan Food and Drink
ATTACH;FMTTYPE=image/png:https://climateactionhub.org.uk/wp-content/uploads/2023/12/Sustainable-Sunday-Christmas-1.12.24-A5-flyer-UPDATE-side-1.png
END:VEVENT
END:VCALENDAR