BEGIN:VCALENDAR
VERSION:2.0
PRODID:-//Climate Action Hub Telford - ECPv6.15.20//NONSGML v1.0//EN
CALSCALE:GREGORIAN
METHOD:PUBLISH
X-WR-CALNAME:Climate Action Hub Telford
X-ORIGINAL-URL:https://climateactionhub.org.uk
X-WR-CALDESC:Events for Climate Action Hub Telford
REFRESH-INTERVAL;VALUE=DURATION:PT1H
X-Robots-Tag:noindex
X-PUBLISHED-TTL:PT1H
BEGIN:VTIMEZONE
TZID:Europe/London
BEGIN:DAYLIGHT
TZOFFSETFROM:+0000
TZOFFSETTO:+0100
TZNAME:BST
DTSTART:20230326T010000
END:DAYLIGHT
BEGIN:STANDARD
TZOFFSETFROM:+0100
TZOFFSETTO:+0000
TZNAME:GMT
DTSTART:20231029T010000
END:STANDARD
BEGIN:DAYLIGHT
TZOFFSETFROM:+0000
TZOFFSETTO:+0100
TZNAME:BST
DTSTART:20240331T010000
END:DAYLIGHT
BEGIN:STANDARD
TZOFFSETFROM:+0100
TZOFFSETTO:+0000
TZNAME:GMT
DTSTART:20241027T010000
END:STANDARD
BEGIN:DAYLIGHT
TZOFFSETFROM:+0000
TZOFFSETTO:+0100
TZNAME:BST
DTSTART:20250330T010000
END:DAYLIGHT
BEGIN:STANDARD
TZOFFSETFROM:+0100
TZOFFSETTO:+0000
TZNAME:GMT
DTSTART:20251026T010000
END:STANDARD
END:VTIMEZONE
BEGIN:VEVENT
DTSTART;TZID=Europe/London:20240324T110000
DTEND;TZID=Europe/London:20240324T150000
DTSTAMP:20260420T002000
CREATED:20231215T171913Z
LAST-MODIFIED:20240312T110031Z
UID:2038-1711278000-1711292400@climateactionhub.org.uk
SUMMARY:Sustainable Sunday event\, Wellington
DESCRIPTION:Join our Sustainable Sunday event in Wellington focused on eco arts and craft activities for all ages and waste free crafting ideas with an additional Teddy Tombola\, swap and giveaway\, recycling facilities and eco library.   \n\n\n\nThis is a FREE event.   \n\n\n\nRefreshments and vegan snacks will be available throughout on a pay as you can donation basis \n\n\n\n\n11am -12.30pm hot and cold drinks and cakes/biscuits available\n\n\n\n12.30pm onwards hot and cold lunch served  \n\n\n\n\n11am: Event starts.  \n\n\n\n11am-3pm: Join our fun eco arts and craft activities for all ages with workshops provided by Art with Anna M making:   \n\n\n\n\nupcycled card Easter bunnies\n\n\n\negg carton spring time flower wreath and bonnets \n\n\n\nsalt dough Easter decorations\n\n\n\n\nWe will also be hosting other craft activities including: \n\n\n\n\nArt Blockers workshop provided by OsTogether\, printing nature motifs on tote bags\, second hand T-shirts\, fabric patches\n\n\n\nCraft activities provided by CAHT: Making and decorating picture frames made from waste cardboard \n\n\n\nand Telford Repair Cafe: weaving with cardboard looms and yarn remnants\n\n\n\n\nAll materials for the craft activities are provided. \n\n\n\nWe will have crafts on display showing how you can use waste fabric\, clothes and yarns to make useful things such as rag rugs\, woolly mats\, crocheted soap bags etc.   \n\n\n\nTeddy Tombola: Join in the fun and offer a new home to our pre loved teddies.  \n\n\n\nLittle Green Pantry: will have a stall to showcase plastic free shopping options and Little Green Heroes activities for kids. \n\n\n\nSwap and Giveaway: Swap for free or take any item for a pay as you can donation including household items\, books\, DVD’s\, toys\, clothes.  By sharing resources we can reduce our carbon emissions and save money too.                                                                                                                                           \n\n\n\nTerracycle Recycling: Make use of our recycling facilities including Terracycle and the opportunity to recycle mobile phones\, electronic gadgets\, jewellery\, stamps and coins (see posters below for full details).               \n\n\n\nEco Library: Explore our new eco library of amazing books and magazines which you can borrow on Nature\, climate and living life in a more sustainable way. \n\n\n\n\n\n\n\nImage of items you can recycle including jewellery\, coins\, stamps\, mobile phones.
URL:https://climateactionhub.org.uk/event/sustainable-sunday-event-belmont-hall-wellington-2
LOCATION:Belmont Hall\, New Street\, Wellington\, Shropshire\, TF1 1LU
CATEGORIES:Climate Action Hub Event,Eco arts and crafts,Eco Library,Swap,Terracycle,Vegan Food and Drink
ATTACH;FMTTYPE=image/png:https://climateactionhub.org.uk/wp-content/uploads/2024/01/Sustainable-Sunday-Carbon-free-arts-and-crafts-event-A5-flyer-24.3.24-A5-png.png
END:VEVENT
END:VCALENDAR