BEGIN:VCALENDAR
VERSION:2.0
PRODID:-//Climate Action Hub Telford - ECPv6.15.20//NONSGML v1.0//EN
CALSCALE:GREGORIAN
METHOD:PUBLISH
X-WR-CALNAME:Climate Action Hub Telford
X-ORIGINAL-URL:https://climateactionhub.org.uk
X-WR-CALDESC:Events for Climate Action Hub Telford
REFRESH-INTERVAL;VALUE=DURATION:PT1H
X-Robots-Tag:noindex
X-PUBLISHED-TTL:PT1H
BEGIN:VTIMEZONE
TZID:Europe/London
BEGIN:DAYLIGHT
TZOFFSETFROM:+0000
TZOFFSETTO:+0100
TZNAME:BST
DTSTART:20230326T010000
END:DAYLIGHT
BEGIN:STANDARD
TZOFFSETFROM:+0100
TZOFFSETTO:+0000
TZNAME:GMT
DTSTART:20231029T010000
END:STANDARD
BEGIN:DAYLIGHT
TZOFFSETFROM:+0000
TZOFFSETTO:+0100
TZNAME:BST
DTSTART:20240331T010000
END:DAYLIGHT
BEGIN:STANDARD
TZOFFSETFROM:+0100
TZOFFSETTO:+0000
TZNAME:GMT
DTSTART:20241027T010000
END:STANDARD
BEGIN:DAYLIGHT
TZOFFSETFROM:+0000
TZOFFSETTO:+0100
TZNAME:BST
DTSTART:20250330T010000
END:DAYLIGHT
BEGIN:STANDARD
TZOFFSETFROM:+0100
TZOFFSETTO:+0000
TZNAME:GMT
DTSTART:20251026T010000
END:STANDARD
END:VTIMEZONE
BEGIN:VEVENT
DTSTART;TZID=Europe/London:20240519T110000
DTEND;TZID=Europe/London:20240519T150000
DTSTAMP:20260419T223053
CREATED:20231215T174939Z
LAST-MODIFIED:20240513T174606Z
UID:2056-1716116400-1716130800@climateactionhub.org.uk
SUMMARY:Sustainable Sunday event\, Wellington
DESCRIPTION:Join our Sustainable Sunday event in Wellington for a fun packed event on sustainable fashion including a clothes swap. Our recycling facilities and eco library will also be available. \n\n\n\nThis event is FREE.   \n\n\n\nRefreshments and vegan snacks available on a pay-as-you-can basis. \n\n\n\n\n11am-12.30pm hot and cold drinks and cakes/biscuits available\n\n\n\n12.30pm onwards hot and cold lunch options served\n\n\n\n\nFrom 11:00am onwards: \n\n\n\nTalk and information: Find out how ‘Fast Fashion’ is harming our planet \n\n\n\nCatwalk show: Amazing sustainable outfits created and modelled by Telford College students on our catwalk – Ideas and inspiration on how to dress sustainably AND still look good! \n\n\n\nClothes swap and giveaway: Browse our huge range of pre-loved clothes for men\, women and children. Bring your own unwanted clothes to swap or take for a small donation. Fill a bag for £1! \n\n\n\nShropshire Wildlife Trust will be with us\, looking to recruit volunteers to their Environmental Leadership Programme for 18-25 year olds  \n\n\n\nAfter lunch from 1:30pm: \n\n\n\nDarning workshop teaching mending skills and Demonstration on ways to use old garments to create something new\, provided by Telford Repair Cafe sewing experts. \n\n\n\nCreative making session: Use your imagination to create something amazing with pom poms! \n\n\n\nDisplay ‘Letters from the Global South’ – an exhibition about the effects of climate change on those countries which are both least responsible and most vulnerable to it. \n\n\n\nRecycling: Make use of our recycling facilities including Terracycle and the opportunity to recycle mobile phones\, electronic gadgets\, jewellery\, stamps and coins (see posters below for full details).  \n\n\n\nEco Library: Explore our new eco library of amazing books and magazines which you can borrow on Nature\, climate and living life in a more sustainable way. \n\n\n\n\n\n\n\nImage of items you can recycle including jewellery\, coins\, stamps\, mobile phones.
URL:https://climateactionhub.org.uk/event/sustainable-sunday-event-belmont-hall-wellington-3
LOCATION:Belmont Hall\, New Street\, Wellington\, Shropshire\, TF1 1LU
CATEGORIES:Climate Action Hub Event,Clothing Swap,Eco Library,Swap,Terracycle,Vegan Food and Drink
ATTACH;FMTTYPE=image/png:https://climateactionhub.org.uk/wp-content/uploads/2023/12/Sustainable-Sunday-Fashion-event-A4-document-19.5.24-Document-A4.png
END:VEVENT
END:VCALENDAR