BEGIN:VCALENDAR
VERSION:2.0
PRODID:-//Climate Action Hub Telford - ECPv6.15.20//NONSGML v1.0//EN
CALSCALE:GREGORIAN
METHOD:PUBLISH
X-WR-CALNAME:Climate Action Hub Telford
X-ORIGINAL-URL:https://climateactionhub.org.uk
X-WR-CALDESC:Events for Climate Action Hub Telford
REFRESH-INTERVAL;VALUE=DURATION:PT1H
X-Robots-Tag:noindex
X-PUBLISHED-TTL:PT1H
BEGIN:VTIMEZONE
TZID:Europe/London
BEGIN:DAYLIGHT
TZOFFSETFROM:+0000
TZOFFSETTO:+0100
TZNAME:BST
DTSTART:20230326T010000
END:DAYLIGHT
BEGIN:STANDARD
TZOFFSETFROM:+0100
TZOFFSETTO:+0000
TZNAME:GMT
DTSTART:20231029T010000
END:STANDARD
BEGIN:DAYLIGHT
TZOFFSETFROM:+0000
TZOFFSETTO:+0100
TZNAME:BST
DTSTART:20240331T010000
END:DAYLIGHT
BEGIN:STANDARD
TZOFFSETFROM:+0100
TZOFFSETTO:+0000
TZNAME:GMT
DTSTART:20241027T010000
END:STANDARD
BEGIN:DAYLIGHT
TZOFFSETFROM:+0000
TZOFFSETTO:+0100
TZNAME:BST
DTSTART:20250330T010000
END:DAYLIGHT
BEGIN:STANDARD
TZOFFSETFROM:+0100
TZOFFSETTO:+0000
TZNAME:GMT
DTSTART:20251026T010000
END:STANDARD
END:VTIMEZONE
BEGIN:VEVENT
DTSTART;TZID=Europe/London:20240602T110000
DTEND;TZID=Europe/London:20240602T150000
DTSTAMP:20260419T224215
CREATED:20231215T175504Z
LAST-MODIFIED:20240524T101318Z
UID:2058-1717326000-1717340400@climateactionhub.org.uk
SUMMARY:Sustainable Sunday event\, Wellington
DESCRIPTION:Join our Sustainable Sunday event in Wellington for a fun packed event on eco art activities with adults and children. Our additional swap\, recycling facilities and eco library will also be available. \n\n\n\nThis event is FREE.   \n\n\n\nRefreshments and vegan snacks available on a pay-as-you-can basis. \n\n\n\n\n11am-12.30pm hot and cold drinks and cakes/biscuits available\n\n\n\n12.30pm onwards hot and cold lunch options served\n\n\n\n\n11am: Event starts.  \n\n\n\n11am-3pm: Join our eco art workshops including: \n\n\n\n11am-1pm:  A collage workshop with local artist Caris Jackson \n\n\n\nFrom 11am: A gel printing workshop with local artist John Wragg \n\n\n\nFrom 11am: a children’s art activities workshop with local artist Anna M \n\n\n\nSwap and Giveaway: Swap for free or take any item for a pay as you can donation including household items\, books\, DVD’s\, toys\, clothes. By sharing resources we can reduce our carbon emissions and save money too.  \n\n\n\nRecycling: Make use of our recycling facilities including Terracycle (please see the Terracycle Telford Facebook page for details of what you can recycle). We also offer the opportunity to recycle mobile phones\, electronic gadgets\, jewellery\, stamps and coins (see poster below for details). \n\n\n\nEco Library: Explore our new eco library of amazing books and magazines which you can borrow on Nature\, climate and living life in a more sustainable way. \n\n\n\n\n\n\n\n\n\n\n\n\n\n\n\nImage of items you can recycle including jewellery\, coins\, stamps\, mobile phones.
URL:https://climateactionhub.org.uk/event/sustainable-sunday-event-belmont-hall-wellington-4
LOCATION:Belmont Hall\, New Street\, Wellington\, Shropshire\, TF1 1LU
CATEGORIES:Climate Action Hub Event,Eco arts and crafts,Eco Library,Swap,Terracycle
ATTACH;FMTTYPE=image/png:https://climateactionhub.org.uk/wp-content/uploads/2024/05/Sustainable-Sunday-food-event-2.6.24-A5-poster-.png
END:VEVENT
END:VCALENDAR