BEGIN:VCALENDAR
VERSION:2.0
PRODID:-//Climate Action Hub Telford - ECPv6.15.20//NONSGML v1.0//EN
CALSCALE:GREGORIAN
METHOD:PUBLISH
X-WR-CALNAME:Climate Action Hub Telford
X-ORIGINAL-URL:https://climateactionhub.org.uk
X-WR-CALDESC:Events for Climate Action Hub Telford
REFRESH-INTERVAL;VALUE=DURATION:PT1H
X-Robots-Tag:noindex
X-PUBLISHED-TTL:PT1H
BEGIN:VTIMEZONE
TZID:Europe/London
BEGIN:DAYLIGHT
TZOFFSETFROM:+0000
TZOFFSETTO:+0100
TZNAME:BST
DTSTART:20230326T010000
END:DAYLIGHT
BEGIN:STANDARD
TZOFFSETFROM:+0100
TZOFFSETTO:+0000
TZNAME:GMT
DTSTART:20231029T010000
END:STANDARD
BEGIN:DAYLIGHT
TZOFFSETFROM:+0000
TZOFFSETTO:+0100
TZNAME:BST
DTSTART:20240331T010000
END:DAYLIGHT
BEGIN:STANDARD
TZOFFSETFROM:+0100
TZOFFSETTO:+0000
TZNAME:GMT
DTSTART:20241027T010000
END:STANDARD
BEGIN:DAYLIGHT
TZOFFSETFROM:+0000
TZOFFSETTO:+0100
TZNAME:BST
DTSTART:20250330T010000
END:DAYLIGHT
BEGIN:STANDARD
TZOFFSETFROM:+0100
TZOFFSETTO:+0000
TZNAME:GMT
DTSTART:20251026T010000
END:STANDARD
END:VTIMEZONE
BEGIN:VEVENT
DTSTART;TZID=Europe/London:20240922T110000
DTEND;TZID=Europe/London:20240922T150000
DTSTAMP:20260420T000413
CREATED:20231215T205124Z
LAST-MODIFIED:20240920T103827Z
UID:2065-1727002800-1727017200@climateactionhub.org.uk
SUMMARY:Sustainable Sunday event\, Wellington
DESCRIPTION:Join our Sustainable Sunday event in Wellington focused on Harvest activities with an additional swap\, recycling facilities and eco library.   \n\n\n\nThis event is FREE.   \n\n\n\nRefreshments and vegan snacks available on a pay-as-you-can basis.  \n\n\n\n\n11am-12.30pm hot and cold drinks and cakes/biscuits available\n\n\n\n12.30pm onwards lunch options served\n\n\n\n\n11am: Event starts.  \n\n\n\n11am-3pm:  \n\n\n\nTransition Telford’s Harvest Local: home grown produce (fruit and veg) and home made preserves including jams\, chutneys\, pickles for sale (donation based) \n\n\n\nMarches Energy Agency/Future Ready Homes information stand:  information about home energy efficiency and retrofit and recruiting for their Green Open Doors event in Shropshire & Telford in October.  \n\n\n\nRosedene Honey Stall \n\n\n\nTelford Central Mosque Garden Group: nature based activities for children \n\n\n\nPlant giveaway & garden scrap store: including tree and shrub seedlings\, edible plants and indoor plants\,  garden equipment\, tools\, pots. You can bring plants\, seeds and gardening equipment along to swap or to donate and take anything you want for a pay as you can donation.  \n\n\n\nFree gardening books and cook books to giveaway \n\n\n\nFoliage and Flowers Quiz with prizes \n\n\n\nLeaflet stand advertising other organisations who are working on local climate and eco action and including information about WWOOF (Willing Workers on Organic Farms)\, Havenhills Field and Kitchen\, Shropshire Good Food Partnership and a Biodiversity tick list to help you make your garden more wildlife friendly.  \n\n\n\nSwap and Giveaway: Swap for free or take any item for a pay as you can donation including household items\, books\, DVD’s\, toys\, clothes. By sharing resources we can reduce our carbon emissions and save money too. \n\n\n\nRecycling: Make use of our recycling facilities including Terracycle (please see the Terracycle Telford Facebook page for details of what you can recycle). We also offer the opportunity to recycle mobile phones\, electronic gadgets\, jewellery\, stamps and coins (see posters below for details). \n\n\n\nEco Library: Explore our new eco library of amazing books and magazines which you can borrow on Nature\, climate and living life in a more sustainable way. \n\n\n\nImage of items you can recycle including jewellery\, coins\, stamps\, mobile phones.
URL:https://climateactionhub.org.uk/event/sustainable-sunday-event-belmont-hall-wellington-7
LOCATION:Belmont Hall\, New Street\, Wellington\, Shropshire\, TF1 1LU
CATEGORIES:Climate Action Hub Event,Eco Library,Garden Scrap Store,Swap,Terracycle,Tree and Plant Giveaway,Vegan Food and Drink
ATTACH;FMTTYPE=image/png:https://climateactionhub.org.uk/wp-content/uploads/2023/12/Sustainable-Sunday-Harvest-Local-A5-flyer-22.9.24-side-1.png
END:VEVENT
END:VCALENDAR