BEGIN:VCALENDAR
VERSION:2.0
PRODID:-//Climate Action Hub Telford - ECPv6.15.20//NONSGML v1.0//EN
CALSCALE:GREGORIAN
METHOD:PUBLISH
X-WR-CALNAME:Climate Action Hub Telford
X-ORIGINAL-URL:https://climateactionhub.org.uk
X-WR-CALDESC:Events for Climate Action Hub Telford
REFRESH-INTERVAL;VALUE=DURATION:PT1H
X-Robots-Tag:noindex
X-PUBLISHED-TTL:PT1H
BEGIN:VTIMEZONE
TZID:Europe/London
BEGIN:DAYLIGHT
TZOFFSETFROM:+0000
TZOFFSETTO:+0100
TZNAME:BST
DTSTART:20230326T010000
END:DAYLIGHT
BEGIN:STANDARD
TZOFFSETFROM:+0100
TZOFFSETTO:+0000
TZNAME:GMT
DTSTART:20231029T010000
END:STANDARD
BEGIN:DAYLIGHT
TZOFFSETFROM:+0000
TZOFFSETTO:+0100
TZNAME:BST
DTSTART:20240331T010000
END:DAYLIGHT
BEGIN:STANDARD
TZOFFSETFROM:+0100
TZOFFSETTO:+0000
TZNAME:GMT
DTSTART:20241027T010000
END:STANDARD
BEGIN:DAYLIGHT
TZOFFSETFROM:+0000
TZOFFSETTO:+0100
TZNAME:BST
DTSTART:20250330T010000
END:DAYLIGHT
BEGIN:STANDARD
TZOFFSETFROM:+0100
TZOFFSETTO:+0000
TZNAME:GMT
DTSTART:20251026T010000
END:STANDARD
END:VTIMEZONE
BEGIN:VEVENT
DTSTART;TZID=Europe/London:20240727T100000
DTEND;TZID=Europe/London:20240727T150000
DTSTAMP:20260420T002302
CREATED:20240524T091842Z
LAST-MODIFIED:20240704T120311Z
UID:2365-1722074400-1722092400@climateactionhub.org.uk
SUMMARY:Wellington Green Festival\, All Saints Church grounds & Wellington Town Square
DESCRIPTION:Join in the fun at Wellington Green Festival.  Spend the day exploring over 30 stalls showcasing the amazing work of local green organisations and businesses.  \n\n\n\nThere will be plenty of plant based food stalls serving delicious food from pies and cheese to ice cream.  \n\n\n\nClimate Action Hub Telford will have a swap stand in All Saints Church grounds: any household items\, books\, DVD’s\, toys\, clothes to swap for free or take for a pay as you can donation \n\n\n\nTelford Repair Cafe will be offering repairs in All Saints Church. They can fix ornaments\, clothing\, soft toys\, home furnishings\, household and electrical items including PAT testing. \n\n\n\nShropshire Cycle Hub will be offering rickshaw rides.  \n\n\n\nThere will be Bodgers demonstrating wood crafts and wool spinning demos. \n\n\n\nThere will be activities for children on offer too. \n\n\n\nIn the Town Square people will be showing their electric cars and talking about their experiences.  \n\n\n\nMusic and entertainment from Severn Valley Stompers and Tadlop plus much much more!
URL:https://climateactionhub.org.uk/event/wellington-green-festival-all-saints-church-grounds-wellington-town-square
LOCATION:Wellington Market Square and All Saints Church grounds
CATEGORIES:Climate Action Hub Event,Swap,Vegan Food and Drink,Wellington Green Festival
ATTACH;FMTTYPE=image/png:https://climateactionhub.org.uk/wp-content/uploads/2024/07/Repair-Swap-Share-event-Wellington-Green-Festival-27.7.24-A4.png
END:VEVENT
END:VCALENDAR