BEGIN:VCALENDAR
VERSION:2.0
PRODID:-//Climate Action Hub Telford - ECPv6.15.20//NONSGML v1.0//EN
CALSCALE:GREGORIAN
METHOD:PUBLISH
X-WR-CALNAME:Climate Action Hub Telford
X-ORIGINAL-URL:https://climateactionhub.org.uk
X-WR-CALDESC:Events for Climate Action Hub Telford
REFRESH-INTERVAL;VALUE=DURATION:PT1H
X-Robots-Tag:noindex
X-PUBLISHED-TTL:PT1H
BEGIN:VTIMEZONE
TZID:Europe/London
BEGIN:DAYLIGHT
TZOFFSETFROM:+0000
TZOFFSETTO:+0100
TZNAME:BST
DTSTART:20230326T010000
END:DAYLIGHT
BEGIN:STANDARD
TZOFFSETFROM:+0100
TZOFFSETTO:+0000
TZNAME:GMT
DTSTART:20231029T010000
END:STANDARD
BEGIN:DAYLIGHT
TZOFFSETFROM:+0000
TZOFFSETTO:+0100
TZNAME:BST
DTSTART:20240331T010000
END:DAYLIGHT
BEGIN:STANDARD
TZOFFSETFROM:+0100
TZOFFSETTO:+0000
TZNAME:GMT
DTSTART:20241027T010000
END:STANDARD
BEGIN:DAYLIGHT
TZOFFSETFROM:+0000
TZOFFSETTO:+0100
TZNAME:BST
DTSTART:20250330T010000
END:DAYLIGHT
BEGIN:STANDARD
TZOFFSETFROM:+0100
TZOFFSETTO:+0000
TZNAME:GMT
DTSTART:20251026T010000
END:STANDARD
END:VTIMEZONE
BEGIN:VEVENT
DTSTART;TZID=Europe/London:20240727T190000
DTEND;TZID=Europe/London:20240727T213000
DTSTAMP:20260420T002302
CREATED:20240624T105312Z
LAST-MODIFIED:20240624T105738Z
UID:2405-1722106800-1722115800@climateactionhub.org.uk
SUMMARY:Wellington Green Festival film showing "I Could Never Go Vegan"\, Wellington Orbit
DESCRIPTION:27 July 2024		\n\n					\n				  at  			\n			\n				7:00 pm			\n		\n									\n					-				\n			\n							\n					9:30 pm				\n			\n							BST\n						 \n\n\n\n\nAs part of Wellington Green Festival we will be sponsoring a film at 7pm at Wellington Orbit cinema.  \n\n\n\n‘I could never go Vegan’ are 5 words spoken around the world by so many non vegans\, but why? On a quest for the truth\, filmmaker\, Thomas Pickering\, sets out to investigate the leading arguments against the vegan movement.  Watch the film trailer here. \n\n\n\nBook tickets via the Box Office\, 1 Station Road\, Wellington\, TF1 1BY or via: www.wellingtonorbit.co.uk \n\n\n\n\n\n\n\n		\n\n\n\n	\n		Climate Action Hub Telford\n	\n			\n\n\n\n	\n		Wellington Orbit\n	\n			01952 743377 \n				View Organiser Website \n		\n\n\n\n	\n	\n\n	\n		Wellington Orbit\n	\n\n	\n						\n				\n\n1 Station Road\n	\n		\n		Wellington\, Telford\,\n\n\n	TF1 1BY\n\n\n\n\n							\n		\n		\n					View Venue Website\n			\n	\n	\n	\n\n\n\n\n	\n		\n			\n				\n					\n						\n	\n	\n\n						\n							Add to calendar						\n						\n	\n\n					\n					\n						\n															\n									\n										Google Calendar									\n								\n															\n									\n										iCalendar									\n								\n															\n									\n										Outlook 365									\n								\n															\n									\n										Outlook Live
URL:https://climateactionhub.org.uk/event/wellington-green-festival-film-showing-i-could-never-go-vegan-wellington-orbit
LOCATION:Wellington Orbit\, 1 Station Road\, Wellington\, Telford\, TF1 1BY
CATEGORIES:Climate Action Hub Event,Film,Third Party Event,Wellington Green Festival
ATTACH;FMTTYPE=image/png:https://climateactionhub.org.uk/wp-content/uploads/2024/06/I-could-never-go-vegan-film-A5-flyer-2.png
END:VEVENT
END:VCALENDAR