BEGIN:VCALENDAR
VERSION:2.0
PRODID:-//Climate Action Hub Telford - ECPv6.15.20//NONSGML v1.0//EN
CALSCALE:GREGORIAN
METHOD:PUBLISH
X-ORIGINAL-URL:https://climateactionhub.org.uk
X-WR-CALDESC:Events for Climate Action Hub Telford
REFRESH-INTERVAL;VALUE=DURATION:PT1H
X-Robots-Tag:noindex
X-PUBLISHED-TTL:PT1H
BEGIN:VTIMEZONE
TZID:Europe/London
BEGIN:DAYLIGHT
TZOFFSETFROM:+0000
TZOFFSETTO:+0100
TZNAME:BST
DTSTART:20220327T010000
END:DAYLIGHT
BEGIN:STANDARD
TZOFFSETFROM:+0100
TZOFFSETTO:+0000
TZNAME:GMT
DTSTART:20221030T010000
END:STANDARD
BEGIN:DAYLIGHT
TZOFFSETFROM:+0000
TZOFFSETTO:+0100
TZNAME:BST
DTSTART:20230326T010000
END:DAYLIGHT
BEGIN:STANDARD
TZOFFSETFROM:+0100
TZOFFSETTO:+0000
TZNAME:GMT
DTSTART:20231029T010000
END:STANDARD
BEGIN:DAYLIGHT
TZOFFSETFROM:+0000
TZOFFSETTO:+0100
TZNAME:BST
DTSTART:20240331T010000
END:DAYLIGHT
BEGIN:STANDARD
TZOFFSETFROM:+0100
TZOFFSETTO:+0000
TZNAME:GMT
DTSTART:20241027T010000
END:STANDARD
BEGIN:DAYLIGHT
TZOFFSETFROM:+0000
TZOFFSETTO:+0100
TZNAME:BST
DTSTART:20250330T010000
END:DAYLIGHT
BEGIN:STANDARD
TZOFFSETFROM:+0100
TZOFFSETTO:+0000
TZNAME:GMT
DTSTART:20251026T010000
END:STANDARD
END:VTIMEZONE
BEGIN:VEVENT
DTSTART;TZID=Europe/London:20241201T110000
DTEND;TZID=Europe/London:20241201T150000
DTSTAMP:20260419T205055
CREATED:20231215T210733Z
LAST-MODIFIED:20241108T153358Z
UID:2073-1733050800-1733065200@climateactionhub.org.uk
SUMMARY:Sustainable Sunday\, Sustainable Christmas Event\, Belmont Hall\, Wellington
DESCRIPTION:Join our Sustainable Sunday event in Wellington for our Sustainable Christmas workshops & activities and Festive swap\, with additional recycling facilities and eco library. \n\n\n\nThis event is FREE.  Refreshments and vegan snacks will be available throughout \n\n\n\nEvent starts at 11am and runs until 3pm. \n\n\n\nChristmas wreath making workshops for adults with local artist Art with Anna M: (the workshop and all materials are provided for free\, donations to support our work are welcomed). PLEASE BOOK YOUR PLACE VIA EVENTBRITE for either: the 11am – 12.30pm workshop  OR 1pm – 2.30pm workshop.  \n\n\n\nChristmas gift wrap & tag decorating workshop for children with Art with Anna M: No need to book – turn up anytime (the workshop and all materials are provided for free\, donations to support our work are welcomed).   \n\n\n\nDo it yourself Christmas card and decorations making workshop: All materials provided. No need to book – turn up anytime.   \n\n\n\nChristmas swap and giveaway: bring along gifts\, toys\, Christmas decorations\, gift bags\, clothes\, books\, DVD’s\, CD’s\, etc. to swap for free or take for a pay as you can donation. \n\n\n\nTelford Energy Advice (Marches Energy Agency) will provide advice about how to keep warm at home this winter. \n\n\n\nSwap and Giveaway: Swap for free or take any item for a pay as you can donation including household items\, books\, DVD’s\, toys\, clothes. By sharing resources we can reduce our carbon emissions and save money too. \n\n\n\nRecycling: Make use of our recycling facilities including Terracycle (please see the Terracycle Telford Facebook page for details of what you can recycle). We also offer the opportunity to recycle mobile phones\, electronic gadgets\, jewellery\, stamps and coins (see posters below for details). \n\n\n\nEco Library: Explore our new eco library of amazing books and magazines which you can borrow on Nature\, climate and living life in a more sustainable way. \n\n\n\nImage of items you can recycle including jewellery\, coins\, stamps\, mobile phones.
URL:https://climateactionhub.org.uk/event/sustainable-sunday-belmont-hall-wellington
LOCATION:Belmont Hall\, New Street\, Wellington\, Shropshire\, TF1 1LU
CATEGORIES:Climate Action Hub Event,Eco arts and crafts,Eco Library,Festive/Christmas Swap,Swap,Terracycle,Toy Swap,Vegan Food and Drink
ATTACH;FMTTYPE=image/png:https://climateactionhub.org.uk/wp-content/uploads/2023/12/Sustainable-Sunday-Christmas-1.12.24-A5-flyer-UPDATE-side-1.png
END:VEVENT
BEGIN:VEVENT
DTSTART;TZID=Europe/London:20240811T110000
DTEND;TZID=Europe/London:20240811T150000
DTSTAMP:20260419T205055
CREATED:20231215T204604Z
LAST-MODIFIED:20240704T134731Z
UID:2062-1723374000-1723388400@climateactionhub.org.uk
SUMMARY:Sustainable Sunday event\, Wellington
DESCRIPTION:Join our Sustainable Sunday event in Wellington during the school holidays with children’s arts and craft activities and a school uniform swap with an additional swap\, recycling facilities and eco library. \n\n\n\nThis event is FREE.   \n\n\n\nRefreshments and vegan snacks available on a pay-as-you-can basis including Morag’s Bakes‘ delicious cakes \n\n\n\n\n11am-12.30pm hot and cold drinks and cakes/biscuits available\n\n\n\n12.30pm onwards lunch options served\n\n\n\n\n11am: Event starts.  \n\n\n\n11am-3pm:  \n\n\n\nDIY children’s arts and crafts activities.  Scrap materials provided.  \n\n\n\nSchool uniform swap  \n\n\n\nChildren’s and baby clothes and toy swap  \n\n\n\nSwap and Giveaway: Swap for free or take any item for a pay as you can donation including household items\, books\, DVD’s\, toys\, clothes. By sharing resources we can reduce our carbon emissions and save money too. \n\n\n\nRecycling: Make use of our recycling facilities including Terracycle (please see the Terracycle Telford Facebook page for details of what you can recycle). We also offer the opportunity to recycle mobile phones\, electronic gadgets\, jewellery\, stamps and coins (see poster below for details). \n\n\n\nEco Library: Explore our new eco library of amazing books and magazines which you can borrow on Nature\, climate and living life in a more sustainable way. \n\n\n\n\n\n\n\nImage of items you can recycle including jewellery\, coins\, stamps\, mobile phones.
URL:https://climateactionhub.org.uk/event/sustainable-sunday-event-belmont-hall-wellington-6
LOCATION:Belmont Hall\, New Street\, Wellington\, Shropshire\, TF1 1LU
CATEGORIES:Climate Action Hub Event,Clothing Swap,Eco arts and crafts,Eco Library,Swap,Terracycle,Toy Swap,Vegan Food and Drink
ATTACH;FMTTYPE=image/png:https://climateactionhub.org.uk/wp-content/uploads/2024/07/Sustainable-Sunday-Summer-hols-11.8.24-A5-side-1.png
END:VEVENT
BEGIN:VEVENT
DTSTART;TZID=Europe/London:20231201T100000
DTEND;TZID=Europe/London:20231201T140000
DTSTAMP:20260419T205055
CREATED:20231106T171210Z
LAST-MODIFIED:20231106T171212Z
UID:2002-1701424800-1701439200@climateactionhub.org.uk
SUMMARY:Join our Festive Swap\, Wellington Market
DESCRIPTION:We will have a Christmas Swap and Giveaway stand at Wellington Market featuring Christmas decorations and gifts as well as toys\, books and DVDs and a Teddy Tombola!   \n\n\n\nOur stall will be located inside next to The Green Cove.     \n\n\n\nYou can swap for free or take any items for a pay as you can donation.  Helping you to reuse and regift this Christmas! 
URL:https://climateactionhub.org.uk/event/join-our-festive-swap-wellington-market
LOCATION:Wellington Market\, Market Street\, Wellington\, TF1 1DT
CATEGORIES:Climate Action Hub Event,Festive/Christmas Swap,Swap,Toy Swap
ATTACH;FMTTYPE=image/png:https://climateactionhub.org.uk/wp-content/uploads/2023/11/A5-Festive-Swap-wellington-1.12.23-Flyer-side-1-e1699290658702.png
END:VEVENT
END:VCALENDAR