BEGIN:VCALENDAR
VERSION:2.0
PRODID:-//Climate Action Hub Telford - ECPv6.15.20//NONSGML v1.0//EN
CALSCALE:GREGORIAN
METHOD:PUBLISH
X-ORIGINAL-URL:https://climateactionhub.org.uk
X-WR-CALDESC:Events for Climate Action Hub Telford
REFRESH-INTERVAL;VALUE=DURATION:PT1H
X-Robots-Tag:noindex
X-PUBLISHED-TTL:PT1H
BEGIN:VTIMEZONE
TZID:Europe/London
BEGIN:DAYLIGHT
TZOFFSETFROM:+0000
TZOFFSETTO:+0100
TZNAME:BST
DTSTART:20220327T010000
END:DAYLIGHT
BEGIN:STANDARD
TZOFFSETFROM:+0100
TZOFFSETTO:+0000
TZNAME:GMT
DTSTART:20221030T010000
END:STANDARD
BEGIN:DAYLIGHT
TZOFFSETFROM:+0000
TZOFFSETTO:+0100
TZNAME:BST
DTSTART:20230326T010000
END:DAYLIGHT
BEGIN:STANDARD
TZOFFSETFROM:+0100
TZOFFSETTO:+0000
TZNAME:GMT
DTSTART:20231029T010000
END:STANDARD
BEGIN:DAYLIGHT
TZOFFSETFROM:+0000
TZOFFSETTO:+0100
TZNAME:BST
DTSTART:20240331T010000
END:DAYLIGHT
BEGIN:STANDARD
TZOFFSETFROM:+0100
TZOFFSETTO:+0000
TZNAME:GMT
DTSTART:20241027T010000
END:STANDARD
BEGIN:DAYLIGHT
TZOFFSETFROM:+0000
TZOFFSETTO:+0100
TZNAME:BST
DTSTART:20250330T010000
END:DAYLIGHT
BEGIN:STANDARD
TZOFFSETFROM:+0100
TZOFFSETTO:+0000
TZNAME:GMT
DTSTART:20251026T010000
END:STANDARD
END:VTIMEZONE
BEGIN:VEVENT
DTSTART;TZID=Europe/London:20240831T100000
DTEND;TZID=Europe/London:20240831T140000
DTSTAMP:20260420T031241
CREATED:20240722T081418Z
LAST-MODIFIED:20240722T081419Z
UID:2440-1725098400-1725112800@climateactionhub.org.uk
SUMMARY:Repair\, Recycle\, Swap & Share event\, Randlay
DESCRIPTION:Join our Swap and Giveaway including books\, DVD’s\, household items\, clothes\, toys etc. Swap for free or take anything on a pay-as-you-can basis.   \n\n\n\nTelford Repair Cafe will fix ornaments\, clothing\, soft toys\, home furnishings\, household & electrical items including PAT testing [No petrol powered items].  Please bring any items for repair before 12pm for collection by 2pm. \n\n\n\nTerracycle Telford will provide recycling facilities (please see the Terracycle Telford Facebook page for details of what you can recycle). We also offer the opportunity to recycle mobile phones\, electronic gadgets\, jewellery\, stamps and coins (see poster below for details).
URL:https://climateactionhub.org.uk/event/repair-recycle-swap-share-event-randlay
LOCATION:Randlay Community Centre\, Randlay Avenue\, Telford\, TF3 2LH
CATEGORIES:Climate Action Hub Event,Repair Cafe,Swap,Terracycle,Third Party Event
ATTACH;FMTTYPE=image/png:https://climateactionhub.org.uk/wp-content/uploads/2024/07/Repair-Recycle-Swap-Share-event-Randlay-31.8.24-A4-1.png
END:VEVENT
BEGIN:VEVENT
DTSTART;TZID=Europe/London:20240727T190000
DTEND;TZID=Europe/London:20240727T213000
DTSTAMP:20260420T031241
CREATED:20240624T105312Z
LAST-MODIFIED:20240624T105738Z
UID:2405-1722106800-1722115800@climateactionhub.org.uk
SUMMARY:Wellington Green Festival film showing "I Could Never Go Vegan"\, Wellington Orbit
DESCRIPTION:As part of Wellington Green Festival we will be sponsoring a film at 7pm at Wellington Orbit cinema.  \n\n\n‘I could never go Vegan’ are 5 words spoken around the world by so many non vegans\, but why? On a quest for the truth\, filmmaker\, Thomas Pickering\, sets out to investigate the leading arguments against the vegan movement.  Watch the film trailer here. \n\n\nBook tickets via the Box Office\, 1 Station Road\, Wellington\, TF1 1BY or via: www.wellingtonorbit.co.uk
URL:https://climateactionhub.org.uk/event/wellington-green-festival-film-showing-i-could-never-go-vegan-wellington-orbit
LOCATION:Wellington Orbit\, 1 Station Road\, Wellington\, Telford\, TF1 1BY
CATEGORIES:Climate Action Hub Event,Film,Third Party Event,Wellington Green Festival
ATTACH;FMTTYPE=image/png:https://climateactionhub.org.uk/wp-content/uploads/2024/06/I-could-never-go-vegan-film-A5-flyer-2.png
END:VEVENT
BEGIN:VEVENT
DTSTART;TZID=Europe/London:20240629T100000
DTEND;TZID=Europe/London:20240629T140000
DTSTAMP:20260420T031241
CREATED:20240603T164019Z
LAST-MODIFIED:20240603T164021Z
UID:2393-1719655200-1719669600@climateactionhub.org.uk
SUMMARY:Repair\, Recycle\, Swap & Share\, Leegomery
DESCRIPTION:Join our Swap and Giveaway including books\, DVD’s\, household items\, clothes\, toys etc. Swap for free or take anything on a pay-as-you-can basis.   \n\n\n\nTelford Repair Cafe will fix ornaments\, clothing\, soft toys\, home furnishings\, household & electrical items including PAT testing [No petrol powered items].  Please bring any items for repair before 12pm for collection by 2pm. \n\n\n\nTerracycle Telford will provide recycling facilities (please see the Terracycle Telford Facebook page for details of what you can recycle). We also offer the opportunity to recycle mobile phones\, electronic gadgets\, jewellery\, stamps and coins (see poster below for details).
URL:https://climateactionhub.org.uk/event/repair-recycle-swap-share-leegomery
LOCATION:Leegomery Community Centre\, Leegate Avenue\, Leegomery\, Telford\, TF1 6NA
CATEGORIES:Climate Action Hub Event,Swap,Terracycle,Third Party Event
ATTACH;FMTTYPE=image/png:https://climateactionhub.org.uk/wp-content/uploads/2024/06/Repair-Recycle-Swap-Share-event-Leegomery-29.6.24-A4.png
END:VEVENT
BEGIN:VEVENT
DTSTART;TZID=Europe/London:20240525T100000
DTEND;TZID=Europe/London:20240525T130000
DTSTAMP:20260420T031241
CREATED:20240429T104142Z
LAST-MODIFIED:20240524T102221Z
UID:2323-1716631200-1716642000@climateactionhub.org.uk
SUMMARY:Grow Local with  Repair\, Recycle\, Garden Scrap Store\, Woodside
DESCRIPTION:Join Transition Telford’s Grow Local.  Bring any fruit\, vegetable and flower plants and seeds along to swap or take for a pay as you can donation. \n\n\n\nJoin our Garden Scrap Store and Plant Giveaway including gardening books\, equipment\, pots and waste that can be used for growing food.  Swap for free or take anything on a pay-as-you-can basis.   \n\n\n\nTelford Repair Cafe will fix ornaments\, clothing\, soft toys\, home furnishings\, household & electrical items including PAT testing [No petrol powered items].  Please bring any items for repair before 12pm for collection by 2pm. \n\n\n\nTerracycle Telford will provide recycling facilities (please see the Terracycle Telford Facebook page for details of what you can recycle). We also offer the opportunity to recycle mobile phones\, electronic gadgets\, jewellery\, stamps and coins (see poster below for details).
URL:https://climateactionhub.org.uk/event/grow-local-with-repair-recycle-garden-scrap-store-woodside
LOCATION:Park Lane Centre\,\, Park Lane\, Woodside\, Telford\, TF7 5QZ
CATEGORIES:Climate Action Hub Event,Garden Scrap Store,Terracycle,Third Party Event,Tree and Plant Giveaway
ATTACH;FMTTYPE=image/png:https://climateactionhub.org.uk/wp-content/uploads/2024/04/Transition-Telfords-Grow-Local-25.5.24-with-Repair-Cafe-Terracycle-A4-poster-2.png
END:VEVENT
BEGIN:VEVENT
DTSTART;TZID=Europe/London:20240224T100000
DTEND;TZID=Europe/London:20240224T140000
DTSTAMP:20260420T031241
CREATED:20240119T103957Z
LAST-MODIFIED:20240119T103958Z
UID:2119-1708768800-1708783200@climateactionhub.org.uk
SUMMARY:Seed Swap with Transition Telford plus Repair\, Recycle & Garden Scrap Store\, Arleston
DESCRIPTION:Join Transition Telford’s Seed Swap.  Bring any fruit\, vegetable and flower seeds along to swap or take for a pay as you can donation. \n\n\n\nJoin our Garden Scrap Store and Tree Seedling Giveaway which will include gardening books\, garden pots and waste that can be used for growing food.  Swap for free or take anything on a pay-as-you-can basis.   \n\n\n\nTelford Repair Cafe will be repairing electrical items\, clothes\, home furnishings\, soft toys\, ornaments\, household items and PAT testing electrical items.  Please bring any items for repair before 1pm. \n\n\n\nTerracycle Telford will provide recycling facilities so bring along any hard to recycle items. See posters below for full details of what can now be recycled. 
URL:https://climateactionhub.org.uk/event/seed-swap-with-transition-telford-plus-repair-recycle-garden-scrap-store-arleston
LOCATION:Arleston Community Centre\, 22 St Giles Close\, Arleston\, Telford\,\, TF1 2AB
CATEGORIES:Climate Action Hub Event,Garden Scrap Store,Terracycle,Third Party Event,Tree and Plant Giveaway
ATTACH;FMTTYPE=image/png:https://climateactionhub.org.uk/wp-content/uploads/2024/01/Transition-Telfords-Seed-Swap-Arleston-24.2.23-with-Tree-Seedling-Giveaway-Repair-Cafe-Terracycle-A4-poster.png
END:VEVENT
BEGIN:VEVENT
DTSTART;TZID=Europe/London:20231125T090000
DTEND;TZID=Europe/London:20231125T170000
DTSTAMP:20260420T031241
CREATED:20231106T170714Z
LAST-MODIFIED:20231106T170716Z
UID:1996-1700902800-1700931600@climateactionhub.org.uk
SUMMARY:Our Christmas giveaway stall at Madeley Christmas Lights event
DESCRIPTION:Come and find us on our stall at Madeley Town Council’s Christmas Lights event.   \n\n\n\nWe will have winter clothes\, toys\, books and DVDs for children and gifts including a gift bag lucky dip!   \n\n\n\nOur stall will be located together with other charity stalls outside Tescos front entrance in Madeley.    Take any items for a pay as you can donation.  Helping you to reuse and regift this Christmas! 
URL:https://climateactionhub.org.uk/event/our-christmas-giveaway-stall-at-madeley-christmas-lights-event
LOCATION:Anstice Square\, Madeley\, TF7 5BD
CATEGORIES:Swap,Third Party Event
ATTACH;FMTTYPE=image/png:https://climateactionhub.org.uk/wp-content/uploads/2023/11/Christmas-Giveaway-stall-at-Madeley-25.11.23--e1699290295482.png
ORGANIZER;CN="Madeley Town Council":MAILTO:info@madeleytowncouncil.gov.uk
END:VEVENT
BEGIN:VEVENT
DTSTART;TZID=Europe/London:20231029T110000
DTEND;TZID=Europe/London:20231029T123000
DTSTAMP:20260420T031241
CREATED:20230927T153806Z
LAST-MODIFIED:20230927T154151Z
UID:1969-1698577200-1698582600@climateactionhub.org.uk
SUMMARY:Climate Cafe in Ironbridge
DESCRIPTION:Some amazing local people have been Inspired by the 161+ founders of climate cafés across 46 countries\, from Force of Nature\, to make space for young people to explore their climate anxiety and channel it into meaningful\, tangible actions that make a difference in our community.  \n\n\n\nHere’s what you can expect from this climate café:  A safe and inclusive space: Our café will be a safe haven for open discussions\, where everyone’s perspective is valued\, and all are welcome to share their thoughts and ideas. Signposting to mental health organisations Workshop\, activities and brainstorming session Call to action: kick-starting community projectsGrab some tickets via Eventbrite here
URL:https://climateactionhub.org.uk/event/climate-cafe-the-bolthole-ironbridge
LOCATION:The Bolthole\, Ironbridge\, 4 The Wharfage\, Telford\, TF8 7AW
CATEGORIES:Third Party Event
ATTACH;FMTTYPE=image/png:https://climateactionhub.org.uk/wp-content/uploads/2023/09/Claimte-cafe-October-2023.png
END:VEVENT
BEGIN:VEVENT
DTSTART;TZID=Europe/London:20231028T100000
DTEND;TZID=Europe/London:20231028T140000
DTSTAMP:20260420T031241
CREATED:20230915T103448Z
LAST-MODIFIED:20230915T104526Z
UID:1948-1698487200-1698501600@climateactionhub.org.uk
SUMMARY:Repair\, Revive\, Recycle Event\, Broseley
DESCRIPTION:Broseley’s Climate Action Group are hosting their Repair Revive and Recycle Event in October. \n\n\n\nWe will not be hosting an event in October however we (together with South Shropshire Climate Action) have offered support and resources to Broseley Climate Action Group who will be hosting their first swap event. \n\n\n\nTelford Repair Cafe will be  repairing and PAT testing electrical items\, they can also mend ornaments\, household items and textile items including clothes\, home furnishings and soft toys.  Please bring any repairs before 1pm \n\n\n\nThere will also be advice on gardening in a Nature friendly way and energy efficiency for your home.
URL:https://climateactionhub.org.uk/event/repair-revive-recycle-event-broseley
LOCATION:The Birchmeadow Centre\, Birch Meadow Road\, Broseley\, TF12 5LP
CATEGORIES:Swap,Third Party Event
ATTACH;FMTTYPE=image/jpeg:https://climateactionhub.org.uk/wp-content/uploads/2023/09/Broseley-event-28.10.23-scaled-e1694774040232.jpg
END:VEVENT
BEGIN:VEVENT
DTSTART;TZID=Europe/London:20231021T120000
DTEND;TZID=Europe/London:20231021T140000
DTSTAMP:20260420T031241
CREATED:20230927T153129Z
LAST-MODIFIED:20230927T154305Z
UID:1965-1697889600-1697896800@climateactionhub.org.uk
SUMMARY:Love to be Green event\, Hollinswood
DESCRIPTION:We will have a small swap stand at this event together with Transition Telford and other eco groups from across the borough so come along and find out more about how to green your life.  
URL:https://climateactionhub.org.uk/event/love-to-be-green-event-the-pavillion-hollinswood
LOCATION:The Pavillion\, Hollinswood\, TF3 2DN
CATEGORIES:Swap,Third Party Event
ATTACH;FMTTYPE=image/jpeg:https://climateactionhub.org.uk/wp-content/uploads/2023/09/green-day-oct-poster.jpg
ORGANIZER;CN="Hollinswood and Randlay Parish Council":MAILTO:enquiries@harpc.org.uk
END:VEVENT
END:VCALENDAR